BEGIN:VCALENDAR
VERSION:2.0
PRODID:icalendar-ruby
CALSCALE:GREGORIAN
METHOD:PUBLISH
BEGIN:VTIMEZONE
TZID:Europe/Moscow
BEGIN:STANDARD
DTSTART:19700101T000000
TZOFFSETFROM:+0300
TZOFFSETTO:+0300
TZNAME:MSK
END:STANDARD
END:VTIMEZONE
BEGIN:VEVENT
DTSTAMP:20260420T184748Z
UID:36f35468-7e35-463c-9b7e-a595e0e5bdd3
DTSTART;TZID=Europe/Moscow:20230209T124500
DTEND;TZID=Europe/Moscow:20230209T142000
DESCRIPTION:Gasparyan Y.M.\, Mirnov S.V. B19-202
LOCATION:33-103
SUMMARY:Hot Plasma and Controlled Fusion
RRULE:FREQ=WEEKLY;UNTIL=20230420T142000;WKST=MO
EXDATE:20230223T124500
END:VEVENT
BEGIN:VEVENT
DTSTAMP:20260420T184748Z
UID:d99a9eaa-1685-4be3-b1ef-93595b4e5eed
DTSTART;TZID=Europe/Moscow:20230208T133500
DTEND;TZID=Europe/Moscow:20230208T160500
DESCRIPTION:Mirnov S.V. M22-208
LOCATION:TRINITI
SUMMARY:Physics Retention in Toroidal Systems
RRULE:FREQ=WEEKLY;UNTIL=20230215T160500;WKST=MO
END:VEVENT
BEGIN:VEVENT
DTSTAMP:20260420T184748Z
UID:a16caba0-574d-45d6-a1a5-6392686c5a69
DTSTART;TZID=Europe/Moscow:20230222T133500
DTEND;TZID=Europe/Moscow:20230222T160500
DESCRIPTION:Mirnov S.V. M22-208
LOCATION:TRINITI
SUMMARY:Physics Retention in Toroidal Systems
RRULE:FREQ=WEEKLY;UNTIL=20230517T160500;WKST=MO
EXDATE:20230308T133500
END:VEVENT
END:VCALENDAR
