BEGIN:VCALENDAR
VERSION:2.0
PRODID:icalendar-ruby
CALSCALE:GREGORIAN
METHOD:PUBLISH
BEGIN:VTIMEZONE
TZID:Europe/Moscow
BEGIN:STANDARD
DTSTART:19700101T000000
TZOFFSETFROM:+0300
TZOFFSETTO:+0300
TZNAME:MSK
END:STANDARD
END:VTIMEZONE
BEGIN:VEVENT
DTSTAMP:20260420T025331Z
UID:b2b25822-fb5a-44dd-9821-a7d47f6391b7
DTSTART;TZID=Europe/Moscow:20230207T124500
DTEND;TZID=Europe/Moscow:20230207T142000
DESCRIPTION:Naydenkova K.V. B21-702
LOCATION:K-302
SUMMARY:Business Planning
RRULE:FREQ=WEEKLY;UNTIL=20230516T142000;WKST=MO
EXDATE:20230509T124500
END:VEVENT
BEGIN:VEVENT
DTSTAMP:20260420T025331Z
UID:9ae94b6f-870f-4573-b494-45abacc6fb22
DTSTART;TZID=Europe/Moscow:20230207T143000
DTEND;TZID=Europe/Moscow:20230207T160500
DESCRIPTION:Naydenkova K.V. S20-703
LOCATION:K-409
SUMMARY:Records Management
RRULE:FREQ=WEEKLY;UNTIL=20230516T160500;INTERVAL=2;WKST=MO
END:VEVENT
BEGIN:VEVENT
DTSTAMP:20260420T025331Z
UID:3f1e3920-e0dd-4301-b333-13f7d17d2312
DTSTART;TZID=Europe/Moscow:20230220T143000
DTEND;TZID=Europe/Moscow:20230220T160500
DESCRIPTION:Naydenkova K.V. B21-702
LOCATION:K-409
SUMMARY:Business Planning
RRULE:FREQ=WEEKLY;UNTIL=20230515T160500;INTERVAL=2;WKST=MO
EXDATE:20230501T143000
END:VEVENT
BEGIN:VEVENT
DTSTAMP:20260420T025331Z
UID:bf4766ac-f938-4674-9e8f-9c4af97c1671
DTSTART;TZID=Europe/Moscow:20230214T143000
DTEND;TZID=Europe/Moscow:20230214T160500
DESCRIPTION:Naydenkova K.V. S20-703
LOCATION:K-409
SUMMARY:Records Management
RRULE:FREQ=WEEKLY;UNTIL=20230509T160500;INTERVAL=2;WKST=MO
EXDATE:20230509T143000
END:VEVENT
BEGIN:VEVENT
DTSTAMP:20260420T025331Z
UID:b875ec9c-0d72-459a-a571-e5b553794227
DTSTART;TZID=Europe/Moscow:20230207T161500
DTEND;TZID=Europe/Moscow:20230207T175000
DESCRIPTION:Naydenkova K.V. M22-201\, M22-202\, M22-205\, M22-206\, M22-20
 7\, M22-208\, M22-209\, M22-211\, M22-218\, M22-312\, M22-501
LOCATION:407
SUMMARY:Management and Marketing\; Marketing and management
RRULE:FREQ=WEEKLY;UNTIL=20230221T175000;WKST=MO
END:VEVENT
BEGIN:VEVENT
DTSTAMP:20260420T025331Z
UID:c328f193-6752-4623-aaaf-c9c3af19d8bc
DTSTART;TZID=Europe/Moscow:20230208T161500
DTEND;TZID=Europe/Moscow:20230208T220000
DESCRIPTION:Naydenkova K.V. B19-702
LOCATION:dep.75
SUMMARY:Academic and Research Work
RRULE:FREQ=WEEKLY;UNTIL=20230322T220000;INTERVAL=2;WKST=MO
EXDATE:20230308T161500
END:VEVENT
BEGIN:VEVENT
DTSTAMP:20260420T025331Z
UID:79f53ba6-e94b-4849-ab1d-417f7a5ce8a8
DTSTART;TZID=Europe/Moscow:20230228T161500
DTEND;TZID=Europe/Moscow:20230228T175000
DESCRIPTION:Naydenkova K.V. M22-201\, M22-202\, M22-205\, M22-206\, M22-20
 7\, M22-208\, M22-209\, M22-211\, M22-218\, M22-312\, M22-501
LOCATION:407
SUMMARY:Management and Marketing\; Marketing and management
RRULE:FREQ=WEEKLY;UNTIL=20230425T175000;WKST=MO
END:VEVENT
BEGIN:VEVENT
DTSTAMP:20260420T025331Z
UID:219cdea6-c7c6-492d-9213-2aa1b7a8a1ef
DTSTART;TZID=Europe/Moscow:20230306T175500
DTEND;TZID=Europe/Moscow:20230306T220000
DESCRIPTION:Naydenkova K.V. M21-721
LOCATION:K-805
SUMMARY:Economic Security
RRULE:FREQ=WEEKLY;UNTIL=20230327T220000;WKST=MO
END:VEVENT
BEGIN:VEVENT
DTSTAMP:20260420T025331Z
UID:24a8ef05-36fe-4eeb-89ea-a0039257fb0b
DTSTART;TZID=Europe/Moscow:20230410T193500
DTEND;TZID=Europe/Moscow:20230410T220000
DESCRIPTION:Naydenkova K.V. M21-781\, M21-782
LOCATION:K-805
SUMMARY:Economic Security
RRULE:FREQ=WEEKLY;UNTIL=20230522T220000;WKST=MO
EXDATE:20230501T193500
EXDATE:20230508T193500
END:VEVENT
END:VCALENDAR
