BEGIN:VCALENDAR
VERSION:2.0
PRODID:icalendar-ruby
CALSCALE:GREGORIAN
METHOD:PUBLISH
BEGIN:VTIMEZONE
TZID:Europe/Moscow
BEGIN:STANDARD
DTSTART:19700101T000000
TZOFFSETFROM:+0300
TZOFFSETTO:+0300
TZNAME:MSK
END:STANDARD
END:VTIMEZONE
BEGIN:VEVENT
DTSTAMP:20260419T170422Z
UID:4b52ad51-6615-48bd-aae1-1b44bef4afdb
DTSTART;TZID=Europe/Moscow:20230209T092000
DTEND;TZID=Europe/Moscow:20230209T100500
DESCRIPTION:Staltsov M.S. M22-198
LOCATION:B-124/126
SUMMARY:Structural Materials for Nuclear Power Facilities
RRULE:FREQ=WEEKLY;UNTIL=20230330T100500;WKST=MO
EXDATE:20230223T092000
END:VEVENT
BEGIN:VEVENT
DTSTAMP:20260419T170422Z
UID:fb1519ed-c164-48db-bf92-c3e3a5918f5b
DTSTART;TZID=Europe/Moscow:20230210T092000
DTEND;TZID=Europe/Moscow:20230210T115000
DESCRIPTION:Chernov I.I.\, Tenishev A.V.\, Suchkov A.N.\, Staltsov M.S.
 \, Sevryukov O.N.\, Nazarov A.V.\, Mihalchik V.V.\, Ivannikov A.A.\, Z
 aluzhnyy A.G.\, Dzhumaev P.S.\, Voskoboynikov R.E.\, Borodin V.A.\, Kr
 ymskaya O.A.\, Shornikov D.P. B19-103
SUMMARY:Practical Training (Research Work)
RRULE:FREQ=WEEKLY;UNTIL=20230428T115000;WKST=MO
EXDATE:20230224T092000
END:VEVENT
BEGIN:VEVENT
DTSTAMP:20260419T170422Z
UID:e154e812-9b70-4a47-b5c5-6c952c2ed6ac
DTSTART;TZID=Europe/Moscow:20230209T101500
DTEND;TZID=Europe/Moscow:20230209T115000
DESCRIPTION:Staltsov M.S. M22-198
LOCATION:B-124/126
SUMMARY:Structural Materials for Nuclear Power Facilities
RRULE:FREQ=WEEKLY;UNTIL=20230518T115000;WKST=MO
EXDATE:20230223T101500
END:VEVENT
BEGIN:VEVENT
DTSTAMP:20260419T170422Z
UID:bb973c40-2044-4dcb-ab02-caefca6a549e
DTSTART;TZID=Europe/Moscow:20230208T101500
DTEND;TZID=Europe/Moscow:20230208T142000
DESCRIPTION:Fedotov I.V.\, Staltsov M.S.\, Krymskaya O.A.\, Isaenkova M
 .G. M22-198
LOCATION:dep.9
SUMMARY:Practical Training (Research Work)
RRULE:FREQ=WEEKLY;UNTIL=20230517T142000;WKST=MO
EXDATE:20230308T101500
END:VEVENT
BEGIN:VEVENT
DTSTAMP:20260419T170422Z
UID:73d1b816-f079-4c9a-a4db-e06a297f49b8
DTSTART;TZID=Europe/Moscow:20230210T124500
DTEND;TZID=Europe/Moscow:20230210T142000
DESCRIPTION:Staltsov M.S. M22-190\, M22-191
LOCATION:B-106A
SUMMARY:Reactor Materials Science
RRULE:FREQ=WEEKLY;UNTIL=20230519T142000;INTERVAL=2;WKST=MO
EXDATE:20230224T124500
END:VEVENT
BEGIN:VEVENT
DTSTAMP:20260419T170422Z
UID:efaa063c-b0ec-4387-a243-5611cab2c2fd
DTSTART;TZID=Europe/Moscow:20230217T124500
DTEND;TZID=Europe/Moscow:20230217T142000
DESCRIPTION:Staltsov M.S. M22-190\, M22-191
LOCATION:B-106A
SUMMARY:Reactor Materials Science
RRULE:FREQ=WEEKLY;UNTIL=20230512T142000;INTERVAL=2;WKST=MO
END:VEVENT
BEGIN:VEVENT
DTSTAMP:20260419T170422Z
UID:73586450-6e1f-4035-ae36-cfa8ad6c845f
DTSTART;TZID=Europe/Moscow:20230406T092000
DTEND;TZID=Europe/Moscow:20230406T100500
DESCRIPTION:Staltsov M.S. M22-198
LOCATION:B-124/126
SUMMARY:Structural Materials for Nuclear Power Facilities
RRULE:FREQ=WEEKLY;UNTIL=20230518T100500;WKST=MO
END:VEVENT
END:VCALENDAR
