BEGIN:VCALENDAR
VERSION:2.0
PRODID:icalendar-ruby
CALSCALE:GREGORIAN
METHOD:PUBLISH
BEGIN:VTIMEZONE
TZID:Europe/Moscow
BEGIN:STANDARD
DTSTART:19700101T000000
TZOFFSETFROM:+0300
TZOFFSETTO:+0300
TZNAME:MSK
END:STANDARD
END:VTIMEZONE
BEGIN:VEVENT
DTSTAMP:20260420T161905Z
UID:e467f605-672a-4258-b4ea-922af751b8c6
DTSTART;TZID=Europe/Moscow:20230208T101500
DTEND;TZID=Europe/Moscow:20230208T110000
DESCRIPTION:Okorokov V.A. M22-106
LOCATION:E-311
SUMMARY:Electroweak Interactions Theory
RRULE:FREQ=WEEKLY;UNTIL=20230517T110000;WKST=MO
EXDATE:20230308T101500
END:VEVENT
BEGIN:VEVENT
DTSTAMP:20260420T161905Z
UID:57bc3212-3ac0-44fd-9c2d-953d9c491e7c
DTSTART;TZID=Europe/Moscow:20230208T110500
DTEND;TZID=Europe/Moscow:20230208T124000
DESCRIPTION:Okorokov V.A. M22-106
LOCATION:E-311
SUMMARY:Electroweak Interactions Theory
RRULE:FREQ=WEEKLY;UNTIL=20230517T124000;WKST=MO
EXDATE:20230308T110500
END:VEVENT
BEGIN:VEVENT
DTSTAMP:20260420T161905Z
UID:4221cc6c-7024-4517-80d3-9873ac2aecc3
DTSTART;TZID=Europe/Moscow:20230207T115500
DTEND;TZID=Europe/Moscow:20230207T133000
DESCRIPTION:Okorokov V.A. B22-503\, B22-504\, B22-505\, B22-513\, B22-514\
 , B22-515\, B22-524\, B22-525\, B22-534\, B22-554\, B22-564\, B22-565
LOCATION:B-100
SUMMARY:
RRULE:FREQ=WEEKLY;UNTIL=20230425T133000;WKST=MO
END:VEVENT
BEGIN:VEVENT
DTSTAMP:20260420T161905Z
UID:651321c0-fde2-4d53-b204-0748a478b60c
DTSTART;TZID=Europe/Moscow:20230208T124500
DTEND;TZID=Europe/Moscow:20230208T142000
DESCRIPTION:Okorokov V.A. B21-801\, B21-802\, B21-803
LOCATION:K-207
SUMMARY:Scientific and Technological Progress in the World History
RRULE:FREQ=WEEKLY;UNTIL=20230517T142000;WKST=MO
EXDATE:20230308T124500
END:VEVENT
BEGIN:VEVENT
DTSTAMP:20260420T161905Z
UID:7abe12b4-3974-472f-9c91-fa878a939535
DTSTART;TZID=Europe/Moscow:20230207T143000
DTEND;TZID=Europe/Moscow:20230207T151500
DESCRIPTION:Okorokov V.A. M22-106
LOCATION:NLK-466
SUMMARY:Selected problems in relativistic quantum physics
RRULE:FREQ=WEEKLY;UNTIL=20230516T151500;WKST=MO
EXDATE:20230509T143000
END:VEVENT
BEGIN:VEVENT
DTSTAMP:20260420T161905Z
UID:b6cc5752-5638-4bfc-8ae9-c453d68a9f63
DTSTART;TZID=Europe/Moscow:20230208T143000
DTEND;TZID=Europe/Moscow:20230208T160500
DESCRIPTION:Okorokov V.A. B21-802
LOCATION:K-205
SUMMARY:Scientific and Technological Progress in the World History
RRULE:FREQ=WEEKLY;UNTIL=20230517T160500;WKST=MO
EXDATE:20230308T143000
END:VEVENT
BEGIN:VEVENT
DTSTAMP:20260420T161905Z
UID:e3b3ce31-a24b-49ac-b632-191525bd6f3f
DTSTART;TZID=Europe/Moscow:20230209T143000
DTEND;TZID=Europe/Moscow:20230209T160500
DESCRIPTION:Okorokov V.A. B22-534
LOCATION:T-108
SUMMARY:
RRULE:FREQ=WEEKLY;UNTIL=20230518T160500;WKST=MO
EXDATE:20230223T143000
END:VEVENT
BEGIN:VEVENT
DTSTAMP:20260420T161905Z
UID:aa557356-4208-467b-a919-d4fac5d5cb94
DTSTART;TZID=Europe/Moscow:20230207T152000
DTEND;TZID=Europe/Moscow:20230207T170000
DESCRIPTION:Okorokov V.A. M22-106
LOCATION:NLK-466
SUMMARY:Selected problems in relativistic quantum physics
RRULE:FREQ=WEEKLY;UNTIL=20230516T170000;WKST=MO
EXDATE:20230509T152000
END:VEVENT
BEGIN:VEVENT
DTSTAMP:20260420T161905Z
UID:c6ed225e-b14d-4159-a84d-3eed6157014a
DTSTART;TZID=Europe/Moscow:20230209T161500
DTEND;TZID=Europe/Moscow:20230209T175000
DESCRIPTION:Okorokov V.A. B22-554
LOCATION:K-308
SUMMARY:
RRULE:FREQ=WEEKLY;UNTIL=20230518T175000;WKST=MO
EXDATE:20230223T161500
END:VEVENT
END:VCALENDAR
