BEGIN:VCALENDAR
VERSION:2.0
PRODID:icalendar-ruby
CALSCALE:GREGORIAN
METHOD:PUBLISH
BEGIN:VTIMEZONE
TZID:Europe/Moscow
BEGIN:STANDARD
DTSTART:19700101T000000
TZOFFSETFROM:+0300
TZOFFSETTO:+0300
TZNAME:MSK
END:STANDARD
END:VTIMEZONE
BEGIN:VEVENT
DTSTAMP:20260420T125712Z
UID:e81ca912-cb0f-4051-9b42-05a00be72bef
DTSTART;TZID=Europe/Moscow:20230213T143000
DTEND;TZID=Europe/Moscow:20230213T160500
DESCRIPTION:Rudnev I.A. A20-221
LOCATION:NLK-2.60
SUMMARY:Condensed Matter Physics
RRULE:FREQ=WEEKLY;UNTIL=20230522T160500;INTERVAL=2;WKST=MO
EXDATE:20230508T143000
END:VEVENT
BEGIN:VEVENT
DTSTAMP:20260420T125712Z
UID:befdbbdd-8fbe-4e17-959f-9f10ecc214f3
DTSTART;TZID=Europe/Moscow:20230206T143000
DTEND;TZID=Europe/Moscow:20230206T160500
DESCRIPTION:Rudnev I.A. A20-221
LOCATION:NLK-2.60
SUMMARY:Condensed Matter Physics
RRULE:FREQ=WEEKLY;UNTIL=20230529T160500;INTERVAL=2;WKST=MO
EXDATE:20230501T143000
END:VEVENT
BEGIN:VEVENT
DTSTAMP:20260420T125712Z
UID:73db243c-953e-450c-a5c4-fa98f19f4343
DTSTART;TZID=Europe/Moscow:20230207T101500
DTEND;TZID=Europe/Moscow:20230207T115000
DESCRIPTION:Rudnev I.A. B19-211
LOCATION:NLK-2.60
SUMMARY:
RRULE:FREQ=WEEKLY;UNTIL=20230418T115000;WKST=MO
END:VEVENT
BEGIN:VEVENT
DTSTAMP:20260420T125712Z
UID:41994fae-6d14-4192-82fe-444ef75c4717
DTSTART;TZID=Europe/Moscow:20230208T101500
DTEND;TZID=Europe/Moscow:20230208T115000
DESCRIPTION:Rudnev I.A. M22-211
LOCATION:NLK-2.60
SUMMARY:Experimental methods in superconductivity physics
RRULE:FREQ=WEEKLY;UNTIL=20230517T115000;INTERVAL=2;WKST=MO
EXDATE:20230308T101500
END:VEVENT
BEGIN:VEVENT
DTSTAMP:20260420T125712Z
UID:2adeb1dc-a1b5-438d-a98b-88b09659db81
DTSTART;TZID=Europe/Moscow:20230215T101500
DTEND;TZID=Europe/Moscow:20230215T115000
DESCRIPTION:Rudnev I.A. M22-211
LOCATION:NLK-2.60
SUMMARY:Experimental methods in superconductivity physics
RRULE:FREQ=WEEKLY;UNTIL=20230510T115000;INTERVAL=2;WKST=MO
END:VEVENT
BEGIN:VEVENT
DTSTAMP:20260420T125712Z
UID:5a7b54d7-c557-4394-a57b-7990a9a650da
DTSTART;TZID=Europe/Moscow:20230207T115500
DTEND;TZID=Europe/Moscow:20230207T133000
DESCRIPTION:Rudnev I.A. B19-211
LOCATION:NLK-2.60
SUMMARY:
RRULE:FREQ=WEEKLY;UNTIL=20230418T133000;WKST=MO
END:VEVENT
BEGIN:VEVENT
DTSTAMP:20260420T125712Z
UID:016cae1b-ed14-4eeb-977f-0590e02a1ebc
DTSTART;TZID=Europe/Moscow:20230207T161500
DTEND;TZID=Europe/Moscow:20230207T170000
DESCRIPTION:Rudnev I.A. B19-211
LOCATION:NLK-2.60
SUMMARY:Introduction to Nanostructures Physics
RRULE:FREQ=WEEKLY;UNTIL=20230418T170000;WKST=MO
END:VEVENT
BEGIN:VEVENT
DTSTAMP:20260420T125712Z
UID:a763112a-2780-40ae-9f9d-cf735e9ee5a9
DTSTART;TZID=Europe/Moscow:20230207T170500
DTEND;TZID=Europe/Moscow:20230207T184000
DESCRIPTION:Rudnev I.A. B19-211
LOCATION:NLK-2.60
SUMMARY:Introduction to Nanostructures Physics
RRULE:FREQ=WEEKLY;UNTIL=20230418T184000;WKST=MO
END:VEVENT
END:VCALENDAR
