BEGIN:VCALENDAR
VERSION:2.0
PRODID:icalendar-ruby
CALSCALE:GREGORIAN
METHOD:PUBLISH
BEGIN:VTIMEZONE
TZID:Europe/Moscow
BEGIN:STANDARD
DTSTART:19700101T000000
TZOFFSETFROM:+0300
TZOFFSETTO:+0300
TZNAME:MSK
END:STANDARD
END:VTIMEZONE
BEGIN:VEVENT
DTSTAMP:20260419T121509Z
UID:5ec589e5-7554-4e3e-a356-5772663f23b6
DTSTART;TZID=Europe/Moscow:20160901T083000
DTEND;TZID=Europe/Moscow:20160901T100500
DESCRIPTION:Aksenova E.N. S15-164
LOCATION:V-404
SUMMARY:Physics
RRULE:FREQ=WEEKLY;UNTIL=20161215T100500;WKST=MO
END:VEVENT
BEGIN:VEVENT
DTSTAMP:20260419T121509Z
UID:89ff7301-95f9-4929-82a0-aeb46d61c846
DTSTART;TZID=Europe/Moscow:20160912T083000
DTEND;TZID=Europe/Moscow:20160912T115000
DESCRIPTION:Aksenova E.N. S16-161
LOCATION:A-312
SUMMARY:General Physics (Mechanics). Subgroup 1
RRULE:FREQ=WEEKLY;UNTIL=20161219T115000;INTERVAL=2;WKST=MO
END:VEVENT
BEGIN:VEVENT
DTSTAMP:20260419T121509Z
UID:800253ba-325e-45f6-a68b-8862fd7d95c3
DTSTART;TZID=Europe/Moscow:20160901T101500
DTEND;TZID=Europe/Moscow:20160901T115000
DESCRIPTION:Aksenova E.N. S15-161\, S15-165
LOCATION:V-404
SUMMARY:Physics
RRULE:FREQ=WEEKLY;UNTIL=20161215T115000;WKST=MO
END:VEVENT
BEGIN:VEVENT
DTSTAMP:20260419T121509Z
UID:ee06da7c-6fff-40b4-a3f6-79f3ef9edae0
DTSTART;TZID=Europe/Moscow:20160902T101500
DTEND;TZID=Europe/Moscow:20160902T115000
DESCRIPTION:Aksenova E.N. S15-161\, S15-162\, S15-163\, S15-164\, S15-165
LOCATION:A-304
SUMMARY:Physics
RRULE:FREQ=WEEKLY;UNTIL=20161216T115000;WKST=MO
EXDATE:20161104T101500
END:VEVENT
BEGIN:VEVENT
DTSTAMP:20260419T121509Z
UID:dafe10b3-f439-4661-9d4a-f37629a28c84
DTSTART;TZID=Europe/Moscow:20160902T124500
DTEND;TZID=Europe/Moscow:20160902T160500
DESCRIPTION:Aksenova E.N. S15-402
LOCATION:A-408
SUMMARY:General Physics (Electricity and Magnetism). Subgroup 2
RRULE:FREQ=WEEKLY;UNTIL=20161209T160500;INTERVAL=2;WKST=MO
END:VEVENT
BEGIN:VEVENT
DTSTAMP:20260419T121509Z
UID:c4cc3e9b-a93c-4ded-9071-ead92b748cfe
DTSTART;TZID=Europe/Moscow:20160912T124500
DTEND;TZID=Europe/Moscow:20160912T160500
DESCRIPTION:Aksenova E.N. S15-001
LOCATION:A-408
SUMMARY:General Physics (Electricity and Magnetism). Subgroup 1
RRULE:FREQ=WEEKLY;UNTIL=20161219T160500;INTERVAL=2;WKST=MO
END:VEVENT
BEGIN:VEVENT
DTSTAMP:20260419T121509Z
UID:315b34fb-12ae-449f-845c-a4b2827ba967
DTSTART;TZID=Europe/Moscow:20160908T124500
DTEND;TZID=Europe/Moscow:20160908T160500
DESCRIPTION:Aksenova E.N. S15-165
LOCATION:A-408
SUMMARY:Physics
RRULE:FREQ=WEEKLY;UNTIL=20161215T160500;INTERVAL=2;WKST=MO
END:VEVENT
END:VCALENDAR
