BEGIN:VCALENDAR
VERSION:2.0
PRODID:icalendar-ruby
CALSCALE:GREGORIAN
METHOD:PUBLISH
BEGIN:VTIMEZONE
TZID:Europe/Moscow
BEGIN:STANDARD
DTSTART:19700101T000000
TZOFFSETFROM:+0300
TZOFFSETTO:+0300
TZNAME:MSK
END:STANDARD
END:VTIMEZONE
BEGIN:VEVENT
DTSTAMP:20260419T184525Z
UID:7ad4f45a-a448-4e11-a382-5504c3ce3fb8
DTSTART;TZID=Europe/Moscow:20220902T110500
DTEND;TZID=Europe/Moscow:20220902T124000
DESCRIPTION:Matyushechkin D.S.\, Homutovskaya A.V. M22-621
LOCATION:VNIIA
SUMMARY:Methods of complex technical systems development. Standardization a
 nd quality assurance systems.
RRULE:FREQ=WEEKLY;UNTIL=20220923T124000;WKST=MO
END:VEVENT
BEGIN:VEVENT
DTSTAMP:20260419T184525Z
UID:1c8daad2-f257-4c61-85f3-549fc4afb197
DTSTART;TZID=Europe/Moscow:20220902T110500
DTEND;TZID=Europe/Moscow:20220902T115000
DESCRIPTION:Homutovskaya A.V.\, Ulyanin O.V. M22-601
LOCATION:VNIIA
SUMMARY:Principles of Complex Technical Systems Design. Standardization and
  Systems of Quality Assurance.
RRULE:FREQ=WEEKLY;UNTIL=20221216T115000;WKST=MO
EXDATE:20221104T110500
END:VEVENT
BEGIN:VEVENT
DTSTAMP:20260419T184525Z
UID:742d7b33-d7b8-4a29-9385-73c827dcdf3e
DTSTART;TZID=Europe/Moscow:20220902T115500
DTEND;TZID=Europe/Moscow:20220902T133000
DESCRIPTION:Ulyanin O.V.\, Homutovskaya A.V. M22-601
LOCATION:VNIIA
SUMMARY:Principles of Complex Technical Systems Design. Standardization and
  Systems of Quality Assurance.
RRULE:FREQ=WEEKLY;UNTIL=20221216T133000;WKST=MO
EXDATE:20221104T115500
END:VEVENT
BEGIN:VEVENT
DTSTAMP:20260419T184525Z
UID:fc076387-8d8f-4afc-8733-b1bda39e755c
DTSTART;TZID=Europe/Moscow:20220930T110500
DTEND;TZID=Europe/Moscow:20220930T124000
DESCRIPTION:Matyushechkin D.S.\, Homutovskaya A.V. M22-621
LOCATION:VNIIA
SUMMARY:Methods of complex technical systems development. Standardization a
 nd quality assurance systems.
RRULE:FREQ=WEEKLY;UNTIL=20221118T124000;WKST=MO
EXDATE:20221104T110500
END:VEVENT
END:VCALENDAR
