BEGIN:VCALENDAR
VERSION:2.0
PRODID:icalendar-ruby
CALSCALE:GREGORIAN
METHOD:PUBLISH
BEGIN:VTIMEZONE
TZID:Europe/Moscow
BEGIN:STANDARD
DTSTART:19700101T000000
TZOFFSETFROM:+0300
TZOFFSETTO:+0300
TZNAME:MSK
END:STANDARD
END:VTIMEZONE
BEGIN:VEVENT
DTSTAMP:20260420T215023Z
UID:ccac33bd-6ef9-4bed-93a2-9c20a4ad56c2
DTSTART;TZID=Europe/Moscow:20160903T115500
DTEND;TZID=Europe/Moscow:20160903T175000
DESCRIPTION:Matrosova E.V.\, Gavrilov S.I.\, Smirnov D.S.\, Rostovskiy 
 N.S.\, Scherbakova N.S. B14-972
LOCATION:dep.71
SUMMARY:Research Term Project (Mathematical Methods in Economics)
RRULE:FREQ=WEEKLY;UNTIL=20161210T175000;WKST=MO
END:VEVENT
BEGIN:VEVENT
DTSTAMP:20260420T215023Z
UID:daa36980-0130-4b41-87ab-3fe9871b9898
DTSTART;TZID=Europe/Moscow:20160906T115500
DTEND;TZID=Europe/Moscow:20160906T133000
DESCRIPTION:Rostovskiy N.S. B14-902
LOCATION:T-209
SUMMARY:Multidimensional Statistical Methods in Economy
RRULE:FREQ=WEEKLY;UNTIL=20161115T133000;INTERVAL=2;WKST=MO
END:VEVENT
BEGIN:VEVENT
DTSTAMP:20260420T215023Z
UID:d62da223-b23a-4939-9c6c-57fbf601c00e
DTSTART;TZID=Europe/Moscow:20160913T115500
DTEND;TZID=Europe/Moscow:20160913T133000
DESCRIPTION:Rostovskiy N.S. B14-902
LOCATION:K-308
SUMMARY:Multidimensional Statistical Methods in Economy
RRULE:FREQ=WEEKLY;UNTIL=20161122T133000;INTERVAL=2;WKST=MO
END:VEVENT
BEGIN:VEVENT
DTSTAMP:20260420T215023Z
UID:904f0347-37e7-468a-ad6c-df3e9e6eaa27
DTSTART;TZID=Europe/Moscow:20160901T124500
DTEND;TZID=Europe/Moscow:20160901T133000
DESCRIPTION:Firstov Y.P.\, Gavrilov S.I.\, Rostovskiy N.S.\, Matrosova 
 E.V.\, Smirnov D.S. B13-902
LOCATION:dep.71
SUMMARY:Scientific Research Work (Numerical Methods in Economics)
RRULE:FREQ=WEEKLY;UNTIL=20161215T133000;WKST=MO
END:VEVENT
BEGIN:VEVENT
DTSTAMP:20260420T215023Z
UID:7f919fbf-8fc0-4b90-9377-336ee7b02584
DTSTART;TZID=Europe/Moscow:20160901T133500
DTEND;TZID=Europe/Moscow:20160901T170000
DESCRIPTION:Firstov Y.P.\, Matrosova E.V.\, Gavrilov S.I.\, Rostovskiy 
 N.S.\, Smirnov D.S. B13-902
LOCATION:dep.71
SUMMARY:Scientific Research Work (Numerical Methods in Economics)
RRULE:FREQ=WEEKLY;UNTIL=20161215T170000;WKST=MO
END:VEVENT
BEGIN:VEVENT
DTSTAMP:20260420T215023Z
UID:8a2c77a7-6de0-484f-8beb-6712ff7c6a01
DTSTART;TZID=Europe/Moscow:20160903T161500
DTEND;TZID=Europe/Moscow:20160903T175000
DESCRIPTION:Rostovskiy N.S.\, Kryanev A.V.\, Zolotuhina E.B.\, Borisov 
 V.N.\, Haritonov V.V.\, Firstov Y.P.\, Silenko A.N.\, Matrosova E.V. M
 15-905
LOCATION:dep.71
SUMMARY:Practical Training (Research Work)
RRULE:FREQ=WEEKLY;UNTIL=20161224T175000;WKST=MO
END:VEVENT
BEGIN:VEVENT
DTSTAMP:20260420T215023Z
UID:ef8551e0-22ed-42c9-b406-286d604e52fe
DTSTART;TZID=Europe/Moscow:20160901T170500
DTEND;TZID=Europe/Moscow:20160901T175000
DESCRIPTION:Firstov Y.P.\, Smirnov D.S.\, Gavrilov S.I.\, Rostovskiy N.
 S.\, Matrosova E.V. B13-902
LOCATION:dep.71
SUMMARY:Scientific Research Work (Numerical Methods in Economics)
RRULE:FREQ=WEEKLY;UNTIL=20161208T175000;INTERVAL=2;WKST=MO
END:VEVENT
BEGIN:VEVENT
DTSTAMP:20260420T215023Z
UID:645a11b0-3882-41a9-8c90-f7cffbd0c624
DTSTART;TZID=Europe/Moscow:20160903T175500
DTEND;TZID=Europe/Moscow:20160903T193000
DESCRIPTION:Firstov Y.P.\, Rostovskiy N.S.\, Haritonov V.V.\, Smirnov D
 .S. B14-972
LOCATION:dep.71
SUMMARY:Academic (Research) Practice and Term Project: Economics of Nuclear
  Industry
RRULE:FREQ=WEEKLY;UNTIL=20161217T193000;WKST=MO
END:VEVENT
BEGIN:VEVENT
DTSTAMP:20260420T215023Z
UID:231275a5-ce34-4f48-bbc8-faf302d92fc9
DTSTART;TZID=Europe/Moscow:20161102T184500
DTEND;TZID=Europe/Moscow:20161102T202000
DESCRIPTION:Rostovskiy N.S. B14-971\, B14-972
LOCATION:K-305
SUMMARY:Methods of Optimal Solutions
RRULE:FREQ=WEEKLY;UNTIL=20161221T202000;WKST=MO
END:VEVENT
BEGIN:VEVENT
DTSTAMP:20260420T215023Z
UID:6ee4298b-6c10-42a7-a784-73dc3d6e1f2a
DTSTART;TZID=Europe/Moscow:20161102T202500
DTEND;TZID=Europe/Moscow:20161102T220000
DESCRIPTION:Rostovskiy N.S. B14-971\, B14-972
LOCATION:K-305
SUMMARY:Methods of Optimal Solutions
RRULE:FREQ=WEEKLY;UNTIL=20161221T220000;WKST=MO
END:VEVENT
BEGIN:VEVENT
DTSTAMP:20260420T215023Z
UID:f971abad-637b-4a7b-8d2f-519542dd14be
DTSTART;TZID=Europe/Moscow:20161103T184500
DTEND;TZID=Europe/Moscow:20161103T220000
DESCRIPTION:Rostovskiy N.S. B14-972
LOCATION:B-212
SUMMARY:Multidimensional Statistical Methods in Economy
RRULE:FREQ=WEEKLY;UNTIL=20161110T220000;WKST=MO
END:VEVENT
END:VCALENDAR
