BEGIN:VCALENDAR
VERSION:2.0
PRODID:icalendar-ruby
CALSCALE:GREGORIAN
METHOD:PUBLISH
BEGIN:VTIMEZONE
TZID:Europe/Moscow
BEGIN:STANDARD
DTSTART:19700101T000000
TZOFFSETFROM:+0300
TZOFFSETTO:+0300
TZNAME:MSK
END:STANDARD
END:VTIMEZONE
BEGIN:VEVENT
DTSTAMP:20260419T120532Z
UID:08a9db09-6a23-4519-af4e-bcc6be041deb
DTSTART;TZID=Europe/Moscow:20220910T101500
DTEND;TZID=Europe/Moscow:20220910T115000
DESCRIPTION:Sushkov V.M. S18-711
LOCATION:K-714a
SUMMARY:Economic Security
RRULE:FREQ=WEEKLY;UNTIL=20221217T115000;INTERVAL=2;WKST=MO
END:VEVENT
BEGIN:VEVENT
DTSTAMP:20260419T120532Z
UID:fd6eaaaa-9ec8-4389-967a-fc5810621176
DTSTART;TZID=Europe/Moscow:20220903T124500
DTEND;TZID=Europe/Moscow:20220903T142000
DESCRIPTION:Sushkov V.M. S18-712
LOCATION:K-714a
SUMMARY:Economic Security
RRULE:FREQ=WEEKLY;UNTIL=20221210T142000;INTERVAL=2;WKST=MO
END:VEVENT
BEGIN:VEVENT
DTSTAMP:20260419T120532Z
UID:5497ae6f-f557-4cc8-89f6-c17f2c98047a
DTSTART;TZID=Europe/Moscow:20220910T124500
DTEND;TZID=Europe/Moscow:20220910T142000
DESCRIPTION:Sushkov V.M. S18-702
LOCATION:K-714a
SUMMARY:Economic Security
RRULE:FREQ=WEEKLY;UNTIL=20221217T142000;INTERVAL=2;WKST=MO
END:VEVENT
BEGIN:VEVENT
DTSTAMP:20260419T120532Z
UID:708007e4-cba5-4f4e-9678-fd27e5958ef5
DTSTART;TZID=Europe/Moscow:20220903T143000
DTEND;TZID=Europe/Moscow:20220903T160500
DESCRIPTION:Sushkov V.M. S18-701\, S18-761
LOCATION:K-714a
SUMMARY:Economic Security
RRULE:FREQ=WEEKLY;UNTIL=20221210T160500;INTERVAL=2;WKST=MO
END:VEVENT
END:VCALENDAR
