BEGIN:VCALENDAR
VERSION:2.0
PRODID:icalendar-ruby
CALSCALE:GREGORIAN
METHOD:PUBLISH
BEGIN:VTIMEZONE
TZID:Europe/Moscow
BEGIN:STANDARD
DTSTART:19700101T000000
TZOFFSETFROM:+0300
TZOFFSETTO:+0300
TZNAME:MSK
END:STANDARD
END:VTIMEZONE
BEGIN:VEVENT
DTSTAMP:20260419T221400Z
UID:a6ecc458-04aa-4b37-8d5b-a16ea266552e
DTSTART;TZID=Europe/Moscow:20220903T143000
DTEND;TZID=Europe/Moscow:20220903T160500
DESCRIPTION:Androsov G.G. S19-501
LOCATION:K-911
SUMMARY:Cross-platform applications
RRULE:FREQ=WEEKLY;UNTIL=20221217T160500;WKST=MO
END:VEVENT
BEGIN:VEVENT
DTSTAMP:20260419T221401Z
UID:6a150315-d25f-4e32-a4c9-7e268e3daec4
DTSTART;TZID=Europe/Moscow:20220903T161500
DTEND;TZID=Europe/Moscow:20220903T170000
DESCRIPTION:Androsov G.G. S19-501
LOCATION:K-911
SUMMARY:Cross-platform applications
RRULE:FREQ=WEEKLY;UNTIL=20221217T170000;WKST=MO
END:VEVENT
END:VCALENDAR
