BEGIN:VCALENDAR
VERSION:2.0
PRODID:icalendar-ruby
CALSCALE:GREGORIAN
METHOD:PUBLISH
BEGIN:VTIMEZONE
TZID:Europe/Moscow
BEGIN:STANDARD
DTSTART:19700101T000000
TZOFFSETFROM:+0300
TZOFFSETTO:+0300
TZNAME:MSK
END:STANDARD
END:VTIMEZONE
BEGIN:VEVENT
DTSTAMP:20260419T221112Z
UID:d44bca90-7968-4e52-8e1f-c9ad4ab6d5c6
DTSTART;TZID=Europe/Moscow:20220906T083000
DTEND;TZID=Europe/Moscow:20220906T115000
DESCRIPTION:Aleeva T.B.\, Stogov Y.V. S19-101
LOCATION:31-110
SUMMARY:Methods and Instruments of Physical Measurements. Subgroup 1
RRULE:FREQ=WEEKLY;UNTIL=20221220T115000;WKST=MO
END:VEVENT
BEGIN:VEVENT
DTSTAMP:20260419T221112Z
UID:2a346ffb-c8b6-4d19-9968-f9b786787560
DTSTART;TZID=Europe/Moscow:20220901T083000
DTEND;TZID=Europe/Moscow:20220901T115000
DESCRIPTION:Aleeva T.B.\, Stogov Y.V. S19-101
LOCATION:31-110
SUMMARY:Methods and Instruments of Physical Measurements. Subgroup 2
RRULE:FREQ=WEEKLY;UNTIL=20221215T115000;WKST=MO
END:VEVENT
BEGIN:VEVENT
DTSTAMP:20260419T221112Z
UID:566bf320-dc3a-4ffa-8bca-6fb5d12a5eb7
DTSTART;TZID=Europe/Moscow:20220908T115500
DTEND;TZID=Europe/Moscow:20220908T133000
DESCRIPTION:Aleeva T.B. S19-101
LOCATION:31-200
SUMMARY:Methods and Instruments of Physical Measurements
RRULE:FREQ=WEEKLY;UNTIL=20221215T133000;INTERVAL=2;WKST=MO
END:VEVENT
BEGIN:VEVENT
DTSTAMP:20260419T221112Z
UID:2af60484-314f-43fd-9f7d-f37505bce55d
DTSTART;TZID=Europe/Moscow:20220906T161500
DTEND;TZID=Europe/Moscow:20220906T175000
DESCRIPTION:Aleeva T.B. S19-101
LOCATION:31-200
SUMMARY:Methods and Instruments of Physical Measurements
RRULE:FREQ=WEEKLY;UNTIL=20221220T175000;WKST=MO
END:VEVENT
END:VCALENDAR
