BEGIN:VCALENDAR
VERSION:2.0
PRODID:icalendar-ruby
CALSCALE:GREGORIAN
METHOD:PUBLISH
BEGIN:VTIMEZONE
TZID:Europe/Moscow
BEGIN:STANDARD
DTSTART:19700101T000000
TZOFFSETFROM:+0300
TZOFFSETTO:+0300
TZNAME:MSK
END:STANDARD
END:VTIMEZONE
BEGIN:VEVENT
DTSTAMP:20260420T185009Z
UID:61ef31fd-b054-4f9e-8968-550d47725341
DTSTART;TZID=Europe/Moscow:20220913T124500
DTEND;TZID=Europe/Moscow:20220913T142000
DESCRIPTION:Stolyarova A.N. S18-761
LOCATION:dep.75
SUMMARY:Practical Training (Research Work)
RRULE:FREQ=WEEKLY;UNTIL=20221220T142000;INTERVAL=2;WKST=MO
END:VEVENT
BEGIN:VEVENT
DTSTAMP:20260420T185009Z
UID:7d45db09-823a-446e-995f-9a4412ea6332
DTSTART;TZID=Europe/Moscow:20220905T152000
DTEND;TZID=Europe/Moscow:20220905T170000
DESCRIPTION:Stolyarova A.N. B19-702
LOCATION:dep.75
SUMMARY:Industry Workshop: pre-graduation
RRULE:FREQ=WEEKLY;UNTIL=20221219T170000;WKST=MO
END:VEVENT
END:VCALENDAR
