BEGIN:VCALENDAR
VERSION:2.0
PRODID:icalendar-ruby
CALSCALE:GREGORIAN
METHOD:PUBLISH
BEGIN:VTIMEZONE
TZID:Europe/Moscow
BEGIN:STANDARD
DTSTART:19700101T000000
TZOFFSETFROM:+0300
TZOFFSETTO:+0300
TZNAME:MSK
END:STANDARD
END:VTIMEZONE
BEGIN:VEVENT
DTSTAMP:20260419T122738Z
UID:5e28df63-7ffb-41b6-b670-a5771757ffc5
DTSTART;TZID=Europe/Moscow:20220905T101500
DTEND;TZID=Europe/Moscow:20220905T115000
DESCRIPTION:Gubina T.V. B19-604
LOCATION:A-119a
SUMMARY:Workshop: Information Measuring Systems
RRULE:FREQ=WEEKLY;UNTIL=20221212T115000;INTERVAL=2;WKST=MO
END:VEVENT
BEGIN:VEVENT
DTSTAMP:20260419T122738Z
UID:3f8d361f-aa67-49da-aebd-1dc1961ad0bc
DTSTART;TZID=Europe/Moscow:20220912T101500
DTEND;TZID=Europe/Moscow:20220912T115000
DESCRIPTION:Gubina T.V. B19-604
LOCATION:A-119a
SUMMARY:Workshop: Information Measuring Systems
RRULE:FREQ=WEEKLY;UNTIL=20221219T115000;INTERVAL=2;WKST=MO
END:VEVENT
END:VCALENDAR
