BEGIN:VCALENDAR
VERSION:2.0
PRODID:icalendar-ruby
CALSCALE:GREGORIAN
METHOD:PUBLISH
BEGIN:VTIMEZONE
TZID:Europe/Moscow
BEGIN:STANDARD
DTSTART:19700101T000000
TZOFFSETFROM:+0300
TZOFFSETTO:+0300
TZNAME:MSK
END:STANDARD
END:VTIMEZONE
BEGIN:VEVENT
DTSTAMP:20260420T215008Z
UID:bec71083-05aa-44aa-8445-bd1e7aa10b37
DTSTART;TZID=Europe/Moscow:20160902T083000
DTEND;TZID=Europe/Moscow:20160902T100500
DESCRIPTION:Mayorova A.N. B14-704
LOCATION:MPK-215
SUMMARY:Accounting
RRULE:FREQ=WEEKLY;UNTIL=20161216T100500;WKST=MO
EXDATE:20161104T083000
END:VEVENT
BEGIN:VEVENT
DTSTAMP:20260420T215008Z
UID:52f738d2-ea1c-4aa3-885f-7a346409f819
DTSTART;TZID=Europe/Moscow:20160902T101500
DTEND;TZID=Europe/Moscow:20160902T115000
DESCRIPTION:Mayorova A.N. B14-704
LOCATION:MPK-215
SUMMARY:Accounting
RRULE:FREQ=WEEKLY;UNTIL=20161216T115000;WKST=MO
EXDATE:20161104T101500
END:VEVENT
BEGIN:VEVENT
DTSTAMP:20260420T215008Z
UID:ac34d6ef-5bff-4f04-bf0f-e0763fbbcd8b
DTSTART;TZID=Europe/Moscow:20160903T101500
DTEND;TZID=Europe/Moscow:20160903T115000
DESCRIPTION:Mayorova A.N. S12-709
LOCATION:T-108
SUMMARY:Organization and Methods of Tax Inspection Procedures
RRULE:FREQ=WEEKLY;UNTIL=20161217T115000;WKST=MO
END:VEVENT
BEGIN:VEVENT
DTSTAMP:20260420T215008Z
UID:a2174ecb-c265-4f45-99ad-1f92ba8d1658
DTSTART;TZID=Europe/Moscow:20160903T115500
DTEND;TZID=Europe/Moscow:20160903T133000
DESCRIPTION:Mayorova A.N. B14-703
LOCATION:B-215
SUMMARY:Taxes and Taxation
RRULE:FREQ=WEEKLY;UNTIL=20161217T133000;WKST=MO
END:VEVENT
BEGIN:VEVENT
DTSTAMP:20260420T215008Z
UID:5d01013c-d645-4b4b-be6d-5ba754606e40
DTSTART;TZID=Europe/Moscow:20160902T124500
DTEND;TZID=Europe/Moscow:20160902T142000
DESCRIPTION:Mayorova A.N. B14-704
LOCATION:MPK-215
SUMMARY:Taxes and Taxation
RRULE:FREQ=WEEKLY;UNTIL=20161216T142000;WKST=MO
EXDATE:20161104T124500
END:VEVENT
BEGIN:VEVENT
DTSTAMP:20260420T215008Z
UID:45f0222b-e8ae-4c1e-a86d-30c9abc96fbc
DTSTART;TZID=Europe/Moscow:20160903T143000
DTEND;TZID=Europe/Moscow:20160903T160500
DESCRIPTION:Mayorova A.N. S14-706
LOCATION:A-205
SUMMARY:Taxes and Taxation
RRULE:FREQ=WEEKLY;UNTIL=20161217T160500;WKST=MO
END:VEVENT
BEGIN:VEVENT
DTSTAMP:20260420T215008Z
UID:cf00f8c5-e8d6-499d-b79a-40b63dfcfcf1
DTSTART;TZID=Europe/Moscow:20160902T143000
DTEND;TZID=Europe/Moscow:20160902T160500
DESCRIPTION:Mayorova A.N. S12-701\, S12-712
LOCATION:MPK-215
SUMMARY:Organization and Methods of Tax Inspection Procedures
RRULE:FREQ=WEEKLY;UNTIL=20161216T160500;WKST=MO
EXDATE:20161104T143000
END:VEVENT
BEGIN:VEVENT
DTSTAMP:20260420T215008Z
UID:0e46b692-d91e-4920-84f7-6d99b212e955
DTSTART;TZID=Europe/Moscow:20160903T161500
DTEND;TZID=Europe/Moscow:20160903T175000
DESCRIPTION:Mayorova A.N. B14-703\, B14-704\, S14-706\, S14-707\, S14-708
LOCATION:403
SUMMARY:Taxes and Taxation
RRULE:FREQ=WEEKLY;UNTIL=20161217T175000;WKST=MO
END:VEVENT
BEGIN:VEVENT
DTSTAMP:20260420T215008Z
UID:5b19733b-364a-4d4a-b1d4-88b9f0527ef7
DTSTART;TZID=Europe/Moscow:20161006T202500
DTEND;TZID=Europe/Moscow:20161006T220000
DESCRIPTION:Komissarova I.P.\, Evseev M.A.\, Belogina N.S.\, Krasheninni
 kova M.S.\, Kevorkova Z.A.\, Sanzharov A.A.\, Mayorova A.N. B13-751
LOCATION:dep.56
SUMMARY:Academic (Research) Practice:
RRULE:FREQ=WEEKLY;UNTIL=20161208T220000;WKST=MO
END:VEVENT
BEGIN:VEVENT
DTSTAMP:20260420T215008Z
UID:52a12d98-f930-4b51-9dc5-dc8bd9428fd1
DTSTART;TZID=Europe/Moscow:20161027T184500
DTEND;TZID=Europe/Moscow:20161027T202000
DESCRIPTION:Belogina N.S.\, Sanzharov A.A.\, Mayorova A.N.\, Krasheninni
 kova M.S.\, Kevorkova Z.A.\, Evseev M.A.\, Komissarova I.P. B13-751
LOCATION:dep.56
SUMMARY:Academic (Research) Practice:
RRULE:FREQ=WEEKLY;UNTIL=20161215T202000;WKST=MO
END:VEVENT
BEGIN:VEVENT
DTSTAMP:20260420T215008Z
UID:2cbe9aab-9fcc-4103-a2a1-8ad3ecabaa3f
DTSTART;TZID=Europe/Moscow:20161217T133500
DTEND;TZID=Europe/Moscow:20161217T151500
DESCRIPTION:Mayorova A.N.\, Komissarova I.P.\, Antonova E.V.\, Belogina
  N.S.\, Evseev M.A.\, Kevorkova Z.A.\, Krasheninnikova M.S. M15-704
LOCATION:dep.56
SUMMARY:Practical Training (Research Work)
END:VEVENT
END:VCALENDAR
