BEGIN:VCALENDAR
VERSION:2.0
PRODID:icalendar-ruby
CALSCALE:GREGORIAN
METHOD:PUBLISH
BEGIN:VTIMEZONE
TZID:Europe/Moscow
BEGIN:STANDARD
DTSTART:19700101T000000
TZOFFSETFROM:+0300
TZOFFSETTO:+0300
TZNAME:MSK
END:STANDARD
END:VTIMEZONE
BEGIN:VEVENT
DTSTAMP:20260419T120456Z
UID:b7aa76c0-9ad5-404a-998f-639336dd31d1
DTSTART;TZID=Europe/Moscow:20220902T083000
DTEND;TZID=Europe/Moscow:20220902T115000
DESCRIPTION:Sosnovtsev V.V. B19-301
LOCATION:E-112
SUMMARY:Physics of Particles and Nuclei. Subgroup 2
RRULE:FREQ=WEEKLY;UNTIL=20221209T115000;INTERVAL=2;WKST=MO
END:VEVENT
END:VCALENDAR
