BEGIN:VCALENDAR
VERSION:2.0
PRODID:icalendar-ruby
CALSCALE:GREGORIAN
METHOD:PUBLISH
BEGIN:VTIMEZONE
TZID:Europe/Moscow
BEGIN:STANDARD
DTSTART:19700101T000000
TZOFFSETFROM:+0300
TZOFFSETTO:+0300
TZNAME:MSK
END:STANDARD
END:VTIMEZONE
BEGIN:VEVENT
DTSTAMP:20260419T221120Z
UID:45888a99-a66a-490f-a990-30eb2271672e
DTSTART;TZID=Europe/Moscow:20220913T124500
DTEND;TZID=Europe/Moscow:20220913T142000
DESCRIPTION:Lvov E.I. S20-201\, S20-401\, S20-402\, S20-602
LOCATION:V-411
SUMMARY:Electrical engineering (fundamentals of electrical circuit theory)
RRULE:FREQ=WEEKLY;UNTIL=20221220T142000;INTERVAL=2;WKST=MO
END:VEVENT
BEGIN:VEVENT
DTSTAMP:20260419T221120Z
UID:266e9c8e-d135-43cd-94b0-3f411add9c57
DTSTART;TZID=Europe/Moscow:20220906T143000
DTEND;TZID=Europe/Moscow:20220906T160500
DESCRIPTION:Lvov E.I. S20-201\, S20-602
LOCATION:V-201
SUMMARY:Electrical engineering (fundamentals of electrical circuit theory)
RRULE:FREQ=WEEKLY;UNTIL=20221220T160500;WKST=MO
END:VEVENT
BEGIN:VEVENT
DTSTAMP:20260419T221120Z
UID:8672483a-f532-445c-bb2f-fdfff9e67744
DTSTART;TZID=Europe/Moscow:20220906T161500
DTEND;TZID=Europe/Moscow:20220906T175000
DESCRIPTION:Lvov E.I. S20-401\, S20-402
LOCATION:K-308
SUMMARY:Electrical engineering (fundamentals of electrical circuit theory)
RRULE:FREQ=WEEKLY;UNTIL=20221220T175000;WKST=MO
END:VEVENT
BEGIN:VEVENT
DTSTAMP:20260419T221120Z
UID:171b1431-57f1-4ae0-ac5d-7d459e338f7b
DTSTART;TZID=Europe/Moscow:20220902T161500
DTEND;TZID=Europe/Moscow:20220902T175000
DESCRIPTION:Koroteev V.I.\, Lvov E.I. S20-402
LOCATION:A-226
SUMMARY:Electrical engineering (fundamentals of electrical circuit theory)
RRULE:FREQ=WEEKLY;UNTIL=20221209T175000;INTERVAL=2;WKST=MO
END:VEVENT
BEGIN:VEVENT
DTSTAMP:20260419T221120Z
UID:3ad402ab-6bca-438b-9e94-0f887370d5a2
DTSTART;TZID=Europe/Moscow:20220909T161500
DTEND;TZID=Europe/Moscow:20220909T175000
DESCRIPTION:Koroteev V.I.\, Lvov E.I. S20-401
LOCATION:V-201
SUMMARY:Electrical engineering (fundamentals of electrical circuit theory)
RRULE:FREQ=WEEKLY;UNTIL=20221216T175000;INTERVAL=2;WKST=MO
EXDATE:20221104T161500
END:VEVENT
BEGIN:VEVENT
DTSTAMP:20260419T221120Z
UID:0d1449b9-bfe1-4552-b8da-56fa737cfcc1
DTSTART;TZID=Europe/Moscow:20220912T161500
DTEND;TZID=Europe/Moscow:20220912T175000
DESCRIPTION:Lvov E.I. S20-201
LOCATION:V-205
SUMMARY:Electrical engineering (fundamentals of electrical circuit theory)
RRULE:FREQ=WEEKLY;UNTIL=20221219T175000;INTERVAL=2;WKST=MO
END:VEVENT
END:VCALENDAR
