BEGIN:VCALENDAR
VERSION:2.0
PRODID:icalendar-ruby
CALSCALE:GREGORIAN
METHOD:PUBLISH
BEGIN:VTIMEZONE
TZID:Europe/Moscow
BEGIN:STANDARD
DTSTART:19700101T000000
TZOFFSETFROM:+0300
TZOFFSETTO:+0300
TZNAME:MSK
END:STANDARD
END:VTIMEZONE
BEGIN:VEVENT
DTSTAMP:20260421T034521Z
UID:e5d3ce63-c1d1-492d-9fe3-82fccddd0e28
DTSTART;TZID=Europe/Moscow:20220907T101500
DTEND;TZID=Europe/Moscow:20220907T115000
DESCRIPTION:Makarov V.V. B20-701
LOCATION:K-822
SUMMARY:Methods of Optimal Solutions
RRULE:FREQ=WEEKLY;UNTIL=20221214T115000;INTERVAL=2;WKST=MO
END:VEVENT
BEGIN:VEVENT
DTSTAMP:20260421T034521Z
UID:eafec6f8-8bf2-4a58-8cda-991156f19bd0
DTSTART;TZID=Europe/Moscow:20220914T101500
DTEND;TZID=Europe/Moscow:20220914T115000
DESCRIPTION:Makarov V.V. B20-701
LOCATION:K-822
SUMMARY:Methods of Optimal Solutions
RRULE:FREQ=WEEKLY;UNTIL=20221221T115000;INTERVAL=2;WKST=MO
END:VEVENT
BEGIN:VEVENT
DTSTAMP:20260421T034521Z
UID:704d7692-a236-440f-8518-8a6eaaff0250
DTSTART;TZID=Europe/Moscow:20220907T115500
DTEND;TZID=Europe/Moscow:20220907T133000
DESCRIPTION:Makarov V.V. B20-702\, B20-902
LOCATION:K-714a
SUMMARY:Operations Research: Optimal Solutions
RRULE:FREQ=WEEKLY;UNTIL=20221214T133000;INTERVAL=2;WKST=MO
END:VEVENT
BEGIN:VEVENT
DTSTAMP:20260421T034521Z
UID:24c310e5-a808-4102-8f31-1fad313fd870
DTSTART;TZID=Europe/Moscow:20220914T115500
DTEND;TZID=Europe/Moscow:20220914T133000
DESCRIPTION:Makarov V.V. B20-702\, B20-902
LOCATION:K-822
SUMMARY:Operations Research: Optimal Solutions
RRULE:FREQ=WEEKLY;UNTIL=20221221T133000;INTERVAL=2;WKST=MO
END:VEVENT
BEGIN:VEVENT
DTSTAMP:20260421T034521Z
UID:a5ea56fa-7aaf-4327-82a1-c283e386e37c
DTSTART;TZID=Europe/Moscow:20220907T143000
DTEND;TZID=Europe/Moscow:20220907T160500
DESCRIPTION:Makarov V.V. B20-701\, B20-702\, B20-902
LOCATION:K-714a
SUMMARY:Methods of Optimal Solutions\; Operations Research: Optimal Solutio
 ns
RRULE:FREQ=WEEKLY;UNTIL=20221221T160500;WKST=MO
END:VEVENT
END:VCALENDAR
