BEGIN:VCALENDAR
VERSION:2.0
PRODID:icalendar-ruby
CALSCALE:GREGORIAN
METHOD:PUBLISH
BEGIN:VTIMEZONE
TZID:Europe/Moscow
BEGIN:STANDARD
DTSTART:19700101T000000
TZOFFSETFROM:+0300
TZOFFSETTO:+0300
TZNAME:MSK
END:STANDARD
END:VTIMEZONE
BEGIN:VEVENT
DTSTAMP:20260419T195652Z
UID:1fcfd9d8-568a-4ad7-9427-2e155d8ccaf9
DTSTART;TZID=Europe/Moscow:20220905T083000
DTEND;TZID=Europe/Moscow:20220905T100500
DESCRIPTION:Gorbunov M.A. S20-703
LOCATION:V-205
SUMMARY:
RRULE:FREQ=WEEKLY;UNTIL=20221212T100500;INTERVAL=2;WKST=MO
END:VEVENT
BEGIN:VEVENT
DTSTAMP:20260419T195652Z
UID:d939ffe7-fd58-4438-b6cd-165b3dca3519
DTSTART;TZID=Europe/Moscow:20220912T083000
DTEND;TZID=Europe/Moscow:20220912T100500
DESCRIPTION:Gorbunov M.A. B20-413\, B20-461\, B20-465
LOCATION:K-411
SUMMARY:Theoretical Principles of Electrical Engineering
RRULE:FREQ=WEEKLY;UNTIL=20221219T100500;INTERVAL=2;WKST=MO
END:VEVENT
BEGIN:VEVENT
DTSTAMP:20260419T195652Z
UID:e8df8ad5-48d2-49c2-b5af-5e9cb3d85069
DTSTART;TZID=Europe/Moscow:20220907T101500
DTEND;TZID=Europe/Moscow:20220907T115000
DESCRIPTION:Gorbunov M.A. B20-602\, B20-604
LOCATION:B-221
SUMMARY:Theoretical Principles of Electrical Engineering
RRULE:FREQ=WEEKLY;UNTIL=20221214T115000;INTERVAL=2;WKST=MO
END:VEVENT
BEGIN:VEVENT
DTSTAMP:20260419T195652Z
UID:5d661bdc-bb3b-4d02-a185-f4ecdde548cd
DTSTART;TZID=Europe/Moscow:20220905T101500
DTEND;TZID=Europe/Moscow:20220905T115000
DESCRIPTION:Gorbunov M.A. B20-302\, B20-312\, B20-362
LOCATION:V-404
SUMMARY:Theoretical Principles of Electrical Engineering
RRULE:FREQ=WEEKLY;UNTIL=20221212T115000;INTERVAL=2;WKST=MO
END:VEVENT
BEGIN:VEVENT
DTSTAMP:20260419T195652Z
UID:ecb170cb-a85b-409d-ae6c-71dfc1e10844
DTSTART;TZID=Europe/Moscow:20220902T115500
DTEND;TZID=Europe/Moscow:20220902T133000
DESCRIPTION:Gorbunov M.A. S20-703
LOCATION:V-205
SUMMARY:
RRULE:FREQ=WEEKLY;UNTIL=20221216T133000;WKST=MO
EXDATE:20221104T115500
END:VEVENT
BEGIN:VEVENT
DTSTAMP:20260419T195652Z
UID:a839c208-1524-4a97-b867-f707c3293221
DTSTART;TZID=Europe/Moscow:20220901T115500
DTEND;TZID=Europe/Moscow:20220901T133000
DESCRIPTION:Gorbunov M.A. B20-302\, B20-312\, B20-362\, B20-401\, B20-403\
 , B20-413\, B20-461\, B20-463\, B20-465\, B20-601\, B20-602\, B20-603\, B2
 0-604\, B20-611\, B20-661\, B20-901
LOCATION:B-304
SUMMARY:Theoretical Principles of Electrical Engineering
RRULE:FREQ=WEEKLY;UNTIL=20221215T133000;WKST=MO
END:VEVENT
BEGIN:VEVENT
DTSTAMP:20260419T195652Z
UID:3eade869-ef77-4685-abba-a12ace5683c6
DTSTART;TZID=Europe/Moscow:20220914T124500
DTEND;TZID=Europe/Moscow:20220914T142000
DESCRIPTION:Gorbunov M.A. B20-601\, B20-611\, B20-661
LOCATION:K-305
SUMMARY:Theoretical Principles of Electrical Engineering
RRULE:FREQ=WEEKLY;UNTIL=20221221T142000;INTERVAL=2;WKST=MO
END:VEVENT
BEGIN:VEVENT
DTSTAMP:20260419T195652Z
UID:ae80e76a-803c-4dea-9fb5-8a113d21df55
DTSTART;TZID=Europe/Moscow:20220907T143000
DTEND;TZID=Europe/Moscow:20220907T160500
DESCRIPTION:Gorbunov M.A. B20-603
LOCATION:K-308
SUMMARY:Theoretical Principles of Electrical Engineering
RRULE:FREQ=WEEKLY;UNTIL=20221214T160500;INTERVAL=2;WKST=MO
END:VEVENT
BEGIN:VEVENT
DTSTAMP:20260419T195653Z
UID:e3079f13-10b5-4f2c-8034-8301492a5411
DTSTART;TZID=Europe/Moscow:20220914T143000
DTEND;TZID=Europe/Moscow:20220914T160500
DESCRIPTION:Gorbunov M.A. B20-603
LOCATION:V-205
SUMMARY:Theoretical Principles of Electrical Engineering
RRULE:FREQ=WEEKLY;UNTIL=20221221T160500;INTERVAL=2;WKST=MO
END:VEVENT
BEGIN:VEVENT
DTSTAMP:20260419T195653Z
UID:655bb298-6255-44fd-a96d-b0321c80c43e
DTSTART;TZID=Europe/Moscow:20220902T161500
DTEND;TZID=Europe/Moscow:20220902T175000
DESCRIPTION:Gorbunov M.A. B20-901
LOCATION:A-207
SUMMARY:Theoretical Principles of Electrical Engineering
RRULE:FREQ=WEEKLY;UNTIL=20221209T175000;INTERVAL=2;WKST=MO
END:VEVENT
BEGIN:VEVENT
DTSTAMP:20260419T195653Z
UID:b1d71c84-02ea-4214-b29f-401b541faca3
DTSTART;TZID=Europe/Moscow:20220907T161500
DTEND;TZID=Europe/Moscow:20220907T175000
DESCRIPTION:Gorbunov M.A. B20-401\, B20-403\, B20-463
LOCATION:K-305
SUMMARY:Theoretical Principles of Electrical Engineering
RRULE:FREQ=WEEKLY;UNTIL=20221214T175000;INTERVAL=2;WKST=MO
END:VEVENT
BEGIN:VEVENT
DTSTAMP:20260419T195653Z
UID:f42cdc24-0347-412f-8bb3-f18549183706
DTSTART;TZID=Europe/Moscow:20220909T161500
DTEND;TZID=Europe/Moscow:20220909T175000
DESCRIPTION:Gorbunov M.A. B20-901
LOCATION:V-201
SUMMARY:Theoretical Principles of Electrical Engineering
RRULE:FREQ=WEEKLY;UNTIL=20221216T175000;INTERVAL=2;WKST=MO
EXDATE:20221104T161500
END:VEVENT
BEGIN:VEVENT
DTSTAMP:20260419T195653Z
UID:ee12e606-c042-4de8-a64f-541a398a04b2
DTSTART;TZID=Europe/Moscow:20220902T184500
DTEND;TZID=Europe/Moscow:20220902T202000
DESCRIPTION:Gorbunov M.A. B19-V01
LOCATION:V-205
SUMMARY:Metrology\, Standardization and Certification
RRULE:FREQ=WEEKLY;UNTIL=20221209T202000;INTERVAL=2;WKST=MO
END:VEVENT
BEGIN:VEVENT
DTSTAMP:20260419T195653Z
UID:2fdade90-80f2-4e17-9a6f-0add3f6cdf78
DTSTART;TZID=Europe/Moscow:20220909T184500
DTEND;TZID=Europe/Moscow:20220909T202000
DESCRIPTION:Gorbunov M.A. B19-V01
LOCATION:V-205
SUMMARY:Metrology\, Standardization and Certification
RRULE:FREQ=WEEKLY;UNTIL=20221216T202000;INTERVAL=2;WKST=MO
EXDATE:20221104T184500
END:VEVENT
END:VCALENDAR
