BEGIN:VCALENDAR
VERSION:2.0
PRODID:icalendar-ruby
CALSCALE:GREGORIAN
METHOD:PUBLISH
BEGIN:VTIMEZONE
TZID:Europe/Moscow
BEGIN:STANDARD
DTSTART:19700101T000000
TZOFFSETFROM:+0300
TZOFFSETTO:+0300
TZNAME:MSK
END:STANDARD
END:VTIMEZONE
BEGIN:VEVENT
DTSTAMP:20260419T223644Z
UID:aabe162b-2471-4581-b1d3-1028c06efdae
DTSTART;TZID=Europe/Moscow:20220907T143000
DTEND;TZID=Europe/Moscow:20220907T160500
DESCRIPTION:Starostin V.I.\, Kirillov A.A. B20-102
LOCATION:V-116
SUMMARY:Introduction to LaTeX
RRULE:FREQ=WEEKLY;UNTIL=20221214T160500;INTERVAL=2;WKST=MO
END:VEVENT
BEGIN:VEVENT
DTSTAMP:20260419T223644Z
UID:04a04302-b9b5-4ace-a668-2737ac357cd9
DTSTART;TZID=Europe/Moscow:20220914T143000
DTEND;TZID=Europe/Moscow:20220914T160500
DESCRIPTION:Starostin V.I.\, Kirillov A.A. B20-102
LOCATION:V-116
SUMMARY:Introduction to LaTeX
RRULE:FREQ=WEEKLY;UNTIL=20221221T160500;INTERVAL=2;WKST=MO
END:VEVENT
END:VCALENDAR
