BEGIN:VCALENDAR
VERSION:2.0
PRODID:icalendar-ruby
CALSCALE:GREGORIAN
METHOD:PUBLISH
BEGIN:VTIMEZONE
TZID:Europe/Moscow
BEGIN:STANDARD
DTSTART:19700101T000000
TZOFFSETFROM:+0300
TZOFFSETTO:+0300
TZNAME:MSK
END:STANDARD
END:VTIMEZONE
BEGIN:VEVENT
DTSTAMP:20260420T185006Z
UID:a098a7d7-6cba-4474-b15b-9a9394c790e1
DTSTART;TZID=Europe/Moscow:20220907T124500
DTEND;TZID=Europe/Moscow:20220907T142000
DESCRIPTION:Somov S.V. B20-105
LOCATION:V-411
SUMMARY:Nuclear Physics Experiment:  Devices and Technologies
RRULE:FREQ=WEEKLY;UNTIL=20221214T142000;INTERVAL=2;WKST=MO
END:VEVENT
BEGIN:VEVENT
DTSTAMP:20260420T185006Z
UID:e9d00c49-f13e-40c1-8862-39e7a5070e7e
DTSTART;TZID=Europe/Moscow:20220914T124500
DTEND;TZID=Europe/Moscow:20220914T142000
DESCRIPTION:Somov S.V. B20-105
LOCATION:V-411
SUMMARY:Nuclear Physics Experiment:  Devices and Technologies
RRULE:FREQ=WEEKLY;UNTIL=20221221T142000;INTERVAL=2;WKST=MO
END:VEVENT
END:VCALENDAR
