BEGIN:VCALENDAR
VERSION:2.0
PRODID:icalendar-ruby
CALSCALE:GREGORIAN
METHOD:PUBLISH
BEGIN:VTIMEZONE
TZID:Europe/Moscow
BEGIN:STANDARD
DTSTART:19700101T000000
TZOFFSETFROM:+0300
TZOFFSETTO:+0300
TZNAME:MSK
END:STANDARD
END:VTIMEZONE
BEGIN:VEVENT
DTSTAMP:20260419T165403Z
UID:8128c6a3-509c-432c-b759-a7cea23530c5
DTSTART;TZID=Europe/Moscow:20220902T083000
DTEND;TZID=Europe/Moscow:20220902T100500
DESCRIPTION:Scherbakov A.A.\, Ivaniy M.B.\, Surin V.I. B20-103
LOCATION:V-106
SUMMARY:Course project: (basic design and CAD)
RRULE:FREQ=WEEKLY;UNTIL=20221216T100500;WKST=MO
EXDATE:20221104T083000
END:VEVENT
BEGIN:VEVENT
DTSTAMP:20260419T165403Z
UID:6c96fe70-13d0-4bf3-b72d-c3629cd5b101
DTSTART;TZID=Europe/Moscow:20220905T143000
DTEND;TZID=Europe/Moscow:20220905T160500
DESCRIPTION:Surin V.I.\, Rivkin A.V.\, Ostrovskiy V.R. B20-101
LOCATION:V-114
SUMMARY:Term Project: Basics of Engineering and CAD
RRULE:FREQ=WEEKLY;UNTIL=20221219T160500;WKST=MO
END:VEVENT
BEGIN:VEVENT
DTSTAMP:20260419T165403Z
UID:159ad596-cbfa-4a44-b3a7-0d40b72be19f
DTSTART;TZID=Europe/Moscow:20220906T161500
DTEND;TZID=Europe/Moscow:20220906T175000
DESCRIPTION:Surin V.I. S20-101\, S20-103
LOCATION:K-211
SUMMARY:Principles of Engineering Design
RRULE:FREQ=WEEKLY;UNTIL=20221213T175000;INTERVAL=2;WKST=MO
END:VEVENT
END:VCALENDAR
