BEGIN:VCALENDAR
VERSION:2.0
PRODID:icalendar-ruby
CALSCALE:GREGORIAN
METHOD:PUBLISH
BEGIN:VTIMEZONE
TZID:Europe/Moscow
BEGIN:STANDARD
DTSTART:19700101T000000
TZOFFSETFROM:+0300
TZOFFSETTO:+0300
TZNAME:MSK
END:STANDARD
END:VTIMEZONE
BEGIN:VEVENT
DTSTAMP:20260421T033635Z
UID:02b80fd5-0b6f-41d6-a4d6-37c2432dd517
DTSTART;TZID=Europe/Moscow:20220919T202500
DTEND;TZID=Europe/Moscow:20220919T220000
DESCRIPTION:Simonenko V.A.\, Loboda P.A. A20-211
LOCATION:K-402
SUMMARY:Current Issues in Theoretical Physics
RRULE:FREQ=WEEKLY;UNTIL=20221226T220000;INTERVAL=2;WKST=MO
END:VEVENT
END:VCALENDAR
