BEGIN:VCALENDAR
VERSION:2.0
PRODID:icalendar-ruby
CALSCALE:GREGORIAN
METHOD:PUBLISH
BEGIN:VTIMEZONE
TZID:Europe/Moscow
BEGIN:STANDARD
DTSTART:19700101T000000
TZOFFSETFROM:+0300
TZOFFSETTO:+0300
TZNAME:MSK
END:STANDARD
END:VTIMEZONE
BEGIN:VEVENT
DTSTAMP:20260419T122737Z
UID:866943c7-8311-42ee-bf73-45587b643858
DTSTART;TZID=Europe/Moscow:20221105T124500
DTEND;TZID=Europe/Moscow:20221105T160500
DESCRIPTION:Lymar V.V.\, Kogdenko V.G. M21-701\, M21-752
LOCATION:V-119
SUMMARY:Corporate Financial Policy
RRULE:FREQ=WEEKLY;UNTIL=20221119T160500;WKST=MO
END:VEVENT
BEGIN:VEVENT
DTSTAMP:20260419T122737Z
UID:b57fdf91-707b-4f63-b6f2-c9b81a67d664
DTSTART;TZID=Europe/Moscow:20221126T124500
DTEND;TZID=Europe/Moscow:20221126T160500
DESCRIPTION:Kogdenko V.G.\, Lymar V.V. M21-701\, M21-752
LOCATION:V-119
SUMMARY:Corporate Financial Policy
RRULE:FREQ=WEEKLY;UNTIL=20221217T160500;WKST=MO
END:VEVENT
END:VCALENDAR
