BEGIN:VCALENDAR
VERSION:2.0
PRODID:icalendar-ruby
CALSCALE:GREGORIAN
METHOD:PUBLISH
BEGIN:VTIMEZONE
TZID:Europe/Moscow
BEGIN:STANDARD
DTSTART:19700101T000000
TZOFFSETFROM:+0300
TZOFFSETTO:+0300
TZNAME:MSK
END:STANDARD
END:VTIMEZONE
BEGIN:VEVENT
DTSTAMP:20260420T130237Z
UID:af887308-5656-4e58-bf19-cadb9105617d
DTSTART;TZID=Europe/Moscow:20220907T133500
DTEND;TZID=Europe/Moscow:20220907T142000
DESCRIPTION:Benesh P.B.\, Kazanbekov S.B. M21-601\, M21-611
LOCATION:VNIIA
SUMMARY:Microprocessor technology
RRULE:FREQ=WEEKLY;UNTIL=20221221T142000;WKST=MO
END:VEVENT
BEGIN:VEVENT
DTSTAMP:20260420T130237Z
UID:c33406cb-80ef-4403-94db-8fb068d09b86
DTSTART;TZID=Europe/Moscow:20220907T143000
DTEND;TZID=Europe/Moscow:20220907T160500
DESCRIPTION:Kazanbekov S.B.\, Benesh P.B. M21-601\, M21-611
LOCATION:VNIIA
SUMMARY:Microprocessor technology
RRULE:FREQ=WEEKLY;UNTIL=20221221T160500;WKST=MO
END:VEVENT
END:VCALENDAR
