BEGIN:VCALENDAR
VERSION:2.0
PRODID:icalendar-ruby
CALSCALE:GREGORIAN
METHOD:PUBLISH
BEGIN:VTIMEZONE
TZID:Europe/Moscow
BEGIN:STANDARD
DTSTART:19700101T000000
TZOFFSETFROM:+0300
TZOFFSETTO:+0300
TZNAME:MSK
END:STANDARD
END:VTIMEZONE
BEGIN:VEVENT
DTSTAMP:20260420T012127Z
UID:39253c24-afb3-4681-9354-01dc256c13f5
DTSTART;TZID=Europe/Moscow:20221005T161500
DTEND;TZID=Europe/Moscow:20221005T175000
DESCRIPTION:Simahin E.A. M21-506
LOCATION:T-211
SUMMARY:Certification Basis for the Technical Instruments of Information Pr
 ocessing
RRULE:FREQ=WEEKLY;UNTIL=20221221T175000;WKST=MO
END:VEVENT
BEGIN:VEVENT
DTSTAMP:20260420T012127Z
UID:eb06ba29-db4b-4b35-bdd1-9086c4572dc3
DTSTART;TZID=Europe/Moscow:20221005T161500
DTEND;TZID=Europe/Moscow:20221005T175000
DESCRIPTION:Simahin E.A.\, Zhukov I.Y. M21-506
LOCATION:T-215
SUMMARY:Certification of information security equipment per  information se
 curity requirements
RRULE:FREQ=WEEKLY;UNTIL=20221221T175000;WKST=MO
END:VEVENT
END:VCALENDAR
