BEGIN:VCALENDAR
VERSION:2.0
PRODID:icalendar-ruby
CALSCALE:GREGORIAN
METHOD:PUBLISH
BEGIN:VTIMEZONE
TZID:Europe/Moscow
BEGIN:STANDARD
DTSTART:19700101T000000
TZOFFSETFROM:+0300
TZOFFSETTO:+0300
TZNAME:MSK
END:STANDARD
END:VTIMEZONE
BEGIN:VEVENT
DTSTAMP:20260419T140820Z
UID:59288985-401b-49c3-8e96-4e488158fdb3
DTSTART;TZID=Europe/Moscow:20220907T092000
DTEND;TZID=Europe/Moscow:20220907T124000
DESCRIPTION:Lebedev-Stepanov P.V. M21-401
LOCATION:TSF RAN
SUMMARY:Process Description Methods in Nanoparticle Ensembles (Self-assembl
 y)
RRULE:FREQ=WEEKLY;UNTIL=20220914T124000;WKST=MO
END:VEVENT
BEGIN:VEVENT
DTSTAMP:20260419T140820Z
UID:33107466-9968-4bea-bd81-64e610d38c1f
DTSTART;TZID=Europe/Moscow:20220921T092000
DTEND;TZID=Europe/Moscow:20220921T124000
DESCRIPTION:Lebedev-Stepanov P.V. M21-401
LOCATION:TSF RAN
SUMMARY:Process Description Methods in Nanoparticle Ensembles (Self-assembl
 y)
RRULE:FREQ=WEEKLY;UNTIL=20221012T124000;WKST=MO
END:VEVENT
BEGIN:VEVENT
DTSTAMP:20260419T140820Z
UID:71de77a7-1b4f-4ab4-bf76-4577207d2bb7
DTSTART;TZID=Europe/Moscow:20221019T092000
DTEND;TZID=Europe/Moscow:20221019T124000
DESCRIPTION:Lebedev-Stepanov P.V. M21-401
LOCATION:TSF RAN
SUMMARY:Process Description Methods in Nanoparticle Ensembles (Self-assembl
 y)
RRULE:FREQ=WEEKLY;UNTIL=20221026T124000;WKST=MO
END:VEVENT
END:VCALENDAR
