BEGIN:VCALENDAR
VERSION:2.0
PRODID:icalendar-ruby
CALSCALE:GREGORIAN
METHOD:PUBLISH
BEGIN:VTIMEZONE
TZID:Europe/Moscow
BEGIN:STANDARD
DTSTART:19700101T000000
TZOFFSETFROM:+0300
TZOFFSETTO:+0300
TZNAME:MSK
END:STANDARD
END:VTIMEZONE
BEGIN:VEVENT
DTSTAMP:20260420T184843Z
UID:cfae71ad-5135-4086-b14e-b676e55d6648
DTSTART;TZID=Europe/Moscow:20220905T115500
DTEND;TZID=Europe/Moscow:20220905T133000
DESCRIPTION:Krohin O.N.\, Cheshev E.A.\, Fronya A.A.\, Mikaelyan G.T.\,
  Marmalyuk A.A.\, Kulchin Y.N.\, Kozyrev A.A.\, Kozlovskiy V.I.\, Kana
 vin A.P.\, Zasavitskiy I.I.\, Zavestovskaya I.N.\, Grigorieva M.S.\, B
 ezotosnyy V.V. M21-304
LOCATION:FIAN
SUMMARY:Practical Training (Research Work)
RRULE:FREQ=WEEKLY;UNTIL=20221219T133000;WKST=MO
END:VEVENT
BEGIN:VEVENT
DTSTAMP:20260420T184843Z
UID:114079d7-612f-4272-a47b-82a2b64fff38
DTSTART;TZID=Europe/Moscow:20220914T115500
DTEND;TZID=Europe/Moscow:20220914T133000
DESCRIPTION:Bezotosnyy V.V. M21-304
LOCATION:FIAN
SUMMARY:High-energy Single Diode Lasers
RRULE:FREQ=WEEKLY;UNTIL=20221221T133000;INTERVAL=2;WKST=MO
END:VEVENT
BEGIN:VEVENT
DTSTAMP:20260420T184843Z
UID:d7fffaa3-41dc-4645-8d7d-16ae8dbd6297
DTSTART;TZID=Europe/Moscow:20220907T143000
DTEND;TZID=Europe/Moscow:20220907T160500
DESCRIPTION:Bezotosnyy V.V. M21-304
LOCATION:FIAN
SUMMARY:High-energy Single Diode Lasers
RRULE:FREQ=WEEKLY;UNTIL=20220928T160500;WKST=MO
END:VEVENT
BEGIN:VEVENT
DTSTAMP:20260420T184843Z
UID:5b220fb2-62d8-46e4-8db5-b18183102d81
DTSTART;TZID=Europe/Moscow:20221005T143000
DTEND;TZID=Europe/Moscow:20221005T160500
DESCRIPTION:Bezotosnyy V.V. M21-304
LOCATION:FIAN
SUMMARY:High-energy Single Diode Lasers
RRULE:FREQ=WEEKLY;UNTIL=20221221T160500;WKST=MO
END:VEVENT
END:VCALENDAR
