BEGIN:VCALENDAR
VERSION:2.0
PRODID:icalendar-ruby
CALSCALE:GREGORIAN
METHOD:PUBLISH
BEGIN:VTIMEZONE
TZID:Europe/Moscow
BEGIN:STANDARD
DTSTART:19700101T000000
TZOFFSETFROM:+0300
TZOFFSETTO:+0300
TZNAME:MSK
END:STANDARD
END:VTIMEZONE
BEGIN:VEVENT
DTSTAMP:20260419T122738Z
UID:3558b19c-8e6b-4817-914f-618a866a7e21
DTSTART;TZID=Europe/Moscow:20220901T143000
DTEND;TZID=Europe/Moscow:20220901T160500
DESCRIPTION:Aleksandrov I.S.\, Naumov P.Y. M21-106
LOCATION:E-313
SUMMARY:Methodology of research and experimentation (physical workshop) (pa
 rt 2)
RRULE:FREQ=WEEKLY;UNTIL=20221215T160500;WKST=MO
END:VEVENT
END:VCALENDAR
