BEGIN:VCALENDAR
VERSION:2.0
PRODID:icalendar-ruby
CALSCALE:GREGORIAN
METHOD:PUBLISH
BEGIN:VTIMEZONE
TZID:Europe/Moscow
BEGIN:STANDARD
DTSTART:19700101T000000
TZOFFSETFROM:+0300
TZOFFSETTO:+0300
TZNAME:MSK
END:STANDARD
END:VTIMEZONE
BEGIN:VEVENT
DTSTAMP:20260419T221400Z
UID:4f686489-9423-4e0c-8e81-4ca4a582bf32
DTSTART;TZID=Europe/Moscow:20220906T083000
DTEND;TZID=Europe/Moscow:20220906T115000
DESCRIPTION:Aleeva T.B.\, Stogov Y.V. S19-101
LOCATION:31-110
SUMMARY:Methods and Instruments of Physical Measurements. Subgroup 1
RRULE:FREQ=WEEKLY;UNTIL=20221220T115000;WKST=MO
END:VEVENT
BEGIN:VEVENT
DTSTAMP:20260419T221400Z
UID:e31a30e3-69fb-4ddb-9a51-1da8b3b26280
DTSTART;TZID=Europe/Moscow:20220901T083000
DTEND;TZID=Europe/Moscow:20220901T115000
DESCRIPTION:Aleeva T.B.\, Stogov Y.V. S19-101
LOCATION:31-110
SUMMARY:Methods and Instruments of Physical Measurements. Subgroup 2
RRULE:FREQ=WEEKLY;UNTIL=20221215T115000;WKST=MO
END:VEVENT
BEGIN:VEVENT
DTSTAMP:20260419T221400Z
UID:0a4f2789-de38-4632-ab38-59f6564d4338
DTSTART;TZID=Europe/Moscow:20220902T083000
DTEND;TZID=Europe/Moscow:20220902T100500
DESCRIPTION:Stogov Y.V. B19-101\, B19-105
LOCATION:V-103
SUMMARY:Physics of Nuclear Reactors. Subgroup 2
RRULE:FREQ=WEEKLY;UNTIL=20221216T100500;WKST=MO
EXDATE:20221104T083000
END:VEVENT
BEGIN:VEVENT
DTSTAMP:20260419T221400Z
UID:ce1af39a-1cba-496b-8b34-3baaf6f3634e
DTSTART;TZID=Europe/Moscow:20220902T101500
DTEND;TZID=Europe/Moscow:20220902T115000
DESCRIPTION:Stogov Y.V. M21-100
LOCATION:31-110
SUMMARY:Experimental Reactor Physics
RRULE:FREQ=WEEKLY;UNTIL=20221209T115000;INTERVAL=2;WKST=MO
END:VEVENT
BEGIN:VEVENT
DTSTAMP:20260419T221400Z
UID:a92072d1-8132-4aaa-a741-3a9f220eba55
DTSTART;TZID=Europe/Moscow:20220909T101500
DTEND;TZID=Europe/Moscow:20220909T115000
DESCRIPTION:Stogov Y.V. S19-101
LOCATION:V-114
SUMMARY:
RRULE:FREQ=WEEKLY;UNTIL=20221216T115000;INTERVAL=2;WKST=MO
EXDATE:20221104T101500
END:VEVENT
BEGIN:VEVENT
DTSTAMP:20260419T221400Z
UID:712b6992-ff7c-4c61-b14a-df6ff19d1e4f
DTSTART;TZID=Europe/Moscow:20220902T115500
DTEND;TZID=Europe/Moscow:20220902T133000
DESCRIPTION:Stogov Y.V. M21-100
LOCATION:31-110
SUMMARY:Experimental Reactor Physics
RRULE:FREQ=WEEKLY;UNTIL=20221216T133000;WKST=MO
EXDATE:20221104T115500
END:VEVENT
BEGIN:VEVENT
DTSTAMP:20260419T221400Z
UID:50700f31-f9e1-494d-b12f-92e6315f84a1
DTSTART;TZID=Europe/Moscow:20220901T115500
DTEND;TZID=Europe/Moscow:20220901T133000
DESCRIPTION:Stogov Y.V. S19-101
LOCATION:31-200
SUMMARY:
RRULE:FREQ=WEEKLY;UNTIL=20221208T133000;INTERVAL=2;WKST=MO
END:VEVENT
BEGIN:VEVENT
DTSTAMP:20260419T221400Z
UID:ae725361-5f79-488a-b301-c037a71970a0
DTSTART;TZID=Europe/Moscow:20220905T143000
DTEND;TZID=Europe/Moscow:20220905T160500
DESCRIPTION:Stogov Y.V. S19-101
LOCATION:V-109
SUMMARY:
RRULE:FREQ=WEEKLY;UNTIL=20221219T160500;WKST=MO
END:VEVENT
BEGIN:VEVENT
DTSTAMP:20260419T221400Z
UID:d54f61d0-f768-4761-a797-80001455fcd6
DTSTART;TZID=Europe/Moscow:20220905T170500
DTEND;TZID=Europe/Moscow:20220905T184000
DESCRIPTION:Stogov Y.V. B19-101\, B19-105
LOCATION:V-109
SUMMARY:Physics of Nuclear Reactors. Subgroup 1
RRULE:FREQ=WEEKLY;UNTIL=20221219T184000;WKST=MO
END:VEVENT
END:VCALENDAR
