BEGIN:VCALENDAR
VERSION:2.0
PRODID:icalendar-ruby
CALSCALE:GREGORIAN
METHOD:PUBLISH
BEGIN:VTIMEZONE
TZID:Europe/Moscow
BEGIN:STANDARD
DTSTART:19700101T000000
TZOFFSETFROM:+0300
TZOFFSETTO:+0300
TZNAME:MSK
END:STANDARD
END:VTIMEZONE
BEGIN:VEVENT
DTSTAMP:20260420T070557Z
UID:65d1b231-4bbe-4e14-ae46-9073d8f61f6e
DTSTART;TZID=Europe/Moscow:20220906T083000
DTEND;TZID=Europe/Moscow:20220906T100500
DESCRIPTION:Tsyvkunova E.A. B21-801
LOCATION:45-221
SUMMARY:English for Specific Purposes: Mass Media. Subgroup 2
RRULE:FREQ=WEEKLY;UNTIL=20221220T100500;WKST=MO
END:VEVENT
BEGIN:VEVENT
DTSTAMP:20260420T070557Z
UID:1d726ece-62a1-473a-9c7e-c886c4ea1790
DTSTART;TZID=Europe/Moscow:20220905T083000
DTEND;TZID=Europe/Moscow:20220905T100500
DESCRIPTION:Tsyvkunova E.A. B19-803
LOCATION:45-219
SUMMARY:English for Specific Purposes: International Law
RRULE:FREQ=WEEKLY;UNTIL=20221219T100500;WKST=MO
END:VEVENT
BEGIN:VEVENT
DTSTAMP:20260420T070557Z
UID:28e7dac1-cc15-425d-a048-c386693a2b5b
DTSTART;TZID=Europe/Moscow:20220906T101500
DTEND;TZID=Europe/Moscow:20220906T115000
DESCRIPTION:Tsyvkunova E.A. B21-801
LOCATION:45-221
SUMMARY:English for Specific Purposes: Mass Media. Subgroup 1
RRULE:FREQ=WEEKLY;UNTIL=20221220T115000;WKST=MO
END:VEVENT
BEGIN:VEVENT
DTSTAMP:20260420T070557Z
UID:be800f8a-4d6c-4a67-a0b9-a6774a356fa8
DTSTART;TZID=Europe/Moscow:20220905T101500
DTEND;TZID=Europe/Moscow:20220905T115000
DESCRIPTION:Tsyvkunova E.A. B19-801
LOCATION:45-219
SUMMARY:English for Specific Purposes: International Law
RRULE:FREQ=WEEKLY;UNTIL=20221219T115000;WKST=MO
END:VEVENT
BEGIN:VEVENT
DTSTAMP:20260420T070557Z
UID:756adaa8-c2a0-41f6-a379-a69bf7854868
DTSTART;TZID=Europe/Moscow:20220905T124500
DTEND;TZID=Europe/Moscow:20220905T142000
DESCRIPTION:Tsyvkunova E.A. B19-802
LOCATION:45-219
SUMMARY:English for Specific Purposes: International Law
RRULE:FREQ=WEEKLY;UNTIL=20221219T142000;WKST=MO
END:VEVENT
BEGIN:VEVENT
DTSTAMP:20260420T070557Z
UID:a38a0096-95a8-4cc7-b5d9-d5648e399bf3
DTSTART;TZID=Europe/Moscow:20220902T124500
DTEND;TZID=Europe/Moscow:20220902T142000
DESCRIPTION:Tsyvkunova E.A. B19-803
LOCATION:45-219
SUMMARY:English for Specific Purposes: International Law
RRULE:FREQ=WEEKLY;UNTIL=20221216T142000;WKST=MO
EXDATE:20221104T124500
END:VEVENT
BEGIN:VEVENT
DTSTAMP:20260420T070557Z
UID:8bdd5689-41ea-41f6-b414-4c993d290548
DTSTART;TZID=Europe/Moscow:20220905T143000
DTEND;TZID=Europe/Moscow:20220905T160500
DESCRIPTION:Tsyvkunova E.A. B21-802
LOCATION:45-219
SUMMARY:English for Specific Purposes: Mass Media
RRULE:FREQ=WEEKLY;UNTIL=20221219T160500;WKST=MO
END:VEVENT
BEGIN:VEVENT
DTSTAMP:20260420T070557Z
UID:2e884b53-5da7-43d1-b119-f4efa091b84b
DTSTART;TZID=Europe/Moscow:20220901T143000
DTEND;TZID=Europe/Moscow:20220901T160500
DESCRIPTION:Tsyvkunova E.A. B19-801
LOCATION:45-219
SUMMARY:English for Specific Purposes: International Law
RRULE:FREQ=WEEKLY;UNTIL=20221215T160500;WKST=MO
END:VEVENT
BEGIN:VEVENT
DTSTAMP:20260420T070557Z
UID:c7f68ccb-34fc-44e9-865f-22cc972ad62e
DTSTART;TZID=Europe/Moscow:20220902T161500
DTEND;TZID=Europe/Moscow:20220902T175000
DESCRIPTION:Tsyvkunova E.A. B21-803
LOCATION:45-221
SUMMARY:English for Specific Purposes: Mass Media
RRULE:FREQ=WEEKLY;UNTIL=20221216T175000;WKST=MO
EXDATE:20221104T161500
END:VEVENT
BEGIN:VEVENT
DTSTAMP:20260420T070557Z
UID:db9b260a-b59a-47ae-92b8-22f3d973a778
DTSTART;TZID=Europe/Moscow:20220901T161500
DTEND;TZID=Europe/Moscow:20220901T175000
DESCRIPTION:Tsyvkunova E.A. B19-802
LOCATION:45-219
SUMMARY:English for Specific Purposes: International Law
RRULE:FREQ=WEEKLY;UNTIL=20221215T175000;WKST=MO
END:VEVENT
END:VCALENDAR
