BEGIN:VCALENDAR
VERSION:2.0
PRODID:icalendar-ruby
CALSCALE:GREGORIAN
METHOD:PUBLISH
BEGIN:VTIMEZONE
TZID:Europe/Moscow
BEGIN:STANDARD
DTSTART:19700101T000000
TZOFFSETFROM:+0300
TZOFFSETTO:+0300
TZNAME:MSK
END:STANDARD
END:VTIMEZONE
BEGIN:VEVENT
DTSTAMP:20260419T181708Z
UID:b708a901-ba6a-42ec-ba2a-1d764a01035f
DTSTART;TZID=Europe/Moscow:20220901T083000
DTEND;TZID=Europe/Moscow:20220901T100500
DESCRIPTION:Bochkareva T.N. B20-701\, B20-702\, B20-902\, S21-701\, S21-71
 1
LOCATION:401
SUMMARY:Economics of an Organization (Enterprise)\; Economics of organizati
 ons
RRULE:FREQ=WEEKLY;UNTIL=20221215T100500;WKST=MO
END:VEVENT
BEGIN:VEVENT
DTSTAMP:20260419T181709Z
UID:12358c31-351e-4b15-b129-1b5d8f8aa8d2
DTSTART;TZID=Europe/Moscow:20220905T101500
DTEND;TZID=Europe/Moscow:20220905T115000
DESCRIPTION:Bochkareva T.N. B21-702\, B21-902
LOCATION:V-417
SUMMARY:Management
RRULE:FREQ=WEEKLY;UNTIL=20220912T115000;WKST=MO
END:VEVENT
BEGIN:VEVENT
DTSTAMP:20260419T181709Z
UID:9527f539-4735-4513-85cc-c1d4e28f90ee
DTSTART;TZID=Europe/Moscow:20220901T101500
DTEND;TZID=Europe/Moscow:20220901T115000
DESCRIPTION:Bochkareva T.N. B20-702\, B20-902
LOCATION:K-1018
SUMMARY:Economics of an Organization (Enterprise)
RRULE:FREQ=WEEKLY;UNTIL=20220915T115000;WKST=MO
END:VEVENT
BEGIN:VEVENT
DTSTAMP:20260419T181709Z
UID:afd816f9-2d0c-45c4-9f07-89cf25b3f7da
DTSTART;TZID=Europe/Moscow:20220905T115500
DTEND;TZID=Europe/Moscow:20220905T133000
DESCRIPTION:Bochkareva T.N. B21-701\, B21-702\, B21-902\, S21-701\, S21-71
 1
LOCATION:407
SUMMARY:Business Management (Enterprise)\; Management
RRULE:FREQ=WEEKLY;UNTIL=20221219T133000;WKST=MO
END:VEVENT
BEGIN:VEVENT
DTSTAMP:20260419T181709Z
UID:e1e3746b-d95e-413c-9455-5bdf9f6cdda4
DTSTART;TZID=Europe/Moscow:20220903T124500
DTEND;TZID=Europe/Moscow:20220903T142000
DESCRIPTION:Bochkareva T.N. S21-711
LOCATION:B-214
SUMMARY:Economics of an Organization (Enterprise)
RRULE:FREQ=WEEKLY;UNTIL=20221217T142000;WKST=MO
END:VEVENT
BEGIN:VEVENT
DTSTAMP:20260419T181709Z
UID:492dd4bd-a277-49d5-a648-0e9022a0aa32
DTSTART;TZID=Europe/Moscow:20220907T124500
DTEND;TZID=Europe/Moscow:20220907T142000
DESCRIPTION:Bochkareva T.N. B20-701
LOCATION:B-217
SUMMARY:Economics of organizations
RRULE:FREQ=WEEKLY;UNTIL=20221221T142000;WKST=MO
END:VEVENT
BEGIN:VEVENT
DTSTAMP:20260419T181709Z
UID:091bd66a-e6f6-4815-b383-627b5d763a18
DTSTART;TZID=Europe/Moscow:20220905T143000
DTEND;TZID=Europe/Moscow:20220905T160500
DESCRIPTION:Bochkareva T.N. S21-711
LOCATION:K-208
SUMMARY:Business Management (Enterprise)
RRULE:FREQ=WEEKLY;UNTIL=20221219T160500;WKST=MO
END:VEVENT
BEGIN:VEVENT
DTSTAMP:20260419T181709Z
UID:bf476fdc-78a0-4536-8c45-f445c108b811
DTSTART;TZID=Europe/Moscow:20220907T143000
DTEND;TZID=Europe/Moscow:20220907T160500
DESCRIPTION:Bochkareva T.N. S21-701
LOCATION:K-208
SUMMARY:Economics of an Organization (Enterprise)
RRULE:FREQ=WEEKLY;UNTIL=20221221T160500;WKST=MO
END:VEVENT
BEGIN:VEVENT
DTSTAMP:20260419T181709Z
UID:8a7dada8-458d-48a3-a4fb-b6091cb09b8b
DTSTART;TZID=Europe/Moscow:20220903T143000
DTEND;TZID=Europe/Moscow:20220903T160500
DESCRIPTION:Bochkareva T.N. B19-701
LOCATION:B-213
SUMMARY:Planning and Budgeting in the Nuclear Industry Enterprises
RRULE:FREQ=WEEKLY;UNTIL=20221210T160500;INTERVAL=2;WKST=MO
END:VEVENT
BEGIN:VEVENT
DTSTAMP:20260419T181709Z
UID:b6624dba-fc1b-43ed-980d-2bc4e89ea563
DTSTART;TZID=Europe/Moscow:20220910T143000
DTEND;TZID=Europe/Moscow:20220910T160500
DESCRIPTION:Bochkareva T.N. B19-701
LOCATION:B-213
SUMMARY:Planning and Budgeting in the Nuclear Industry Enterprises
RRULE:FREQ=WEEKLY;UNTIL=20221217T160500;INTERVAL=2;WKST=MO
END:VEVENT
BEGIN:VEVENT
DTSTAMP:20260419T181709Z
UID:05911d2e-8f20-4637-965b-67a81492d955
DTSTART;TZID=Europe/Moscow:20220919T101500
DTEND;TZID=Europe/Moscow:20220919T115000
DESCRIPTION:Bochkareva T.N. B21-702\, B21-902
LOCATION:B-208
SUMMARY:Management
RRULE:FREQ=WEEKLY;UNTIL=20221219T115000;WKST=MO
END:VEVENT
BEGIN:VEVENT
DTSTAMP:20260419T181709Z
UID:3995c1c1-b1e6-4cb3-acc8-b866ca038b03
DTSTART;TZID=Europe/Moscow:20220929T101500
DTEND;TZID=Europe/Moscow:20220929T115000
DESCRIPTION:Bochkareva T.N. B20-702\, B20-902
LOCATION:408
SUMMARY:Economics of an Organization (Enterprise)
RRULE:FREQ=WEEKLY;UNTIL=20221208T115000;INTERVAL=2;WKST=MO
END:VEVENT
BEGIN:VEVENT
DTSTAMP:20260419T181709Z
UID:1e3028c9-3683-4e2e-b0d0-2c49f4fd757f
DTSTART;TZID=Europe/Moscow:20220922T101500
DTEND;TZID=Europe/Moscow:20220922T115000
DESCRIPTION:Bochkareva T.N. B20-702\, B20-902
LOCATION:B-208
SUMMARY:Economics of an Organization (Enterprise)
RRULE:FREQ=WEEKLY;UNTIL=20221215T115000;INTERVAL=2;WKST=MO
END:VEVENT
BEGIN:VEVENT
DTSTAMP:20260419T181709Z
UID:63f6a351-7597-4bc6-ae85-5b7838474ce8
DTSTART;TZID=Europe/Moscow:20221005T184500
DTEND;TZID=Europe/Moscow:20221005T220000
DESCRIPTION:Bochkareva T.N. M21-701\, M21-752
LOCATION:K-714a
SUMMARY:Economic Analysis and Evaluation of Business Processes
RRULE:FREQ=WEEKLY;UNTIL=20221026T220000;WKST=MO
END:VEVENT
BEGIN:VEVENT
DTSTAMP:20260419T181709Z
UID:5418a17b-d369-4084-bce9-5638c0000353
DTSTART;TZID=Europe/Moscow:20220930T184500
DTEND;TZID=Europe/Moscow:20220930T220000
DESCRIPTION:Bochkareva T.N. M22-701\, M22-711
LOCATION:V-106
SUMMARY:Marketing-Management (Advanced Level)
RRULE:FREQ=WEEKLY;UNTIL=20221014T220000;INTERVAL=2;WKST=MO
END:VEVENT
BEGIN:VEVENT
DTSTAMP:20260419T181709Z
UID:e516a2c8-f132-4ffe-bff1-f28bc9c5d2f3
DTSTART;TZID=Europe/Moscow:20221102T184500
DTEND;TZID=Europe/Moscow:20221102T220000
DESCRIPTION:Bochkareva T.N. M21-701\, M21-752
LOCATION:K-714a
SUMMARY:Economic Analysis and Evaluation of Business Processes
RRULE:FREQ=WEEKLY;UNTIL=20221123T220000;WKST=MO
END:VEVENT
BEGIN:VEVENT
DTSTAMP:20260419T181709Z
UID:8c331746-c784-4110-83a0-27d16cd98da3
DTSTART;TZID=Europe/Moscow:20221028T184500
DTEND;TZID=Europe/Moscow:20221028T220000
DESCRIPTION:Bochkareva T.N. M22-701\, M22-711
LOCATION:V-106
SUMMARY:Marketing-Management (Advanced Level)
RRULE:FREQ=WEEKLY;UNTIL=20221125T220000;INTERVAL=2;WKST=MO
END:VEVENT
BEGIN:VEVENT
DTSTAMP:20260419T181709Z
UID:5609af4d-044a-4ce2-82b3-2662ddb29f89
DTSTART;TZID=Europe/Moscow:20221209T184500
DTEND;TZID=Europe/Moscow:20221209T220000
DESCRIPTION:Bochkareva T.N. M22-701\, M22-711
LOCATION:V-106
SUMMARY:Marketing-Management (Advanced Level)
END:VEVENT
END:VCALENDAR
