BEGIN:VCALENDAR
VERSION:2.0
PRODID:icalendar-ruby
CALSCALE:GREGORIAN
METHOD:PUBLISH
BEGIN:VTIMEZONE
TZID:Europe/Moscow
BEGIN:STANDARD
DTSTART:19700101T000000
TZOFFSETFROM:+0300
TZOFFSETTO:+0300
TZNAME:MSK
END:STANDARD
END:VTIMEZONE
BEGIN:VEVENT
DTSTAMP:20260419T120445Z
UID:74ce80b8-5fcd-4c57-b271-7f63a52f629a
DTSTART;TZID=Europe/Moscow:20220908T083000
DTEND;TZID=Europe/Moscow:20220908T100500
DESCRIPTION:Suchkov M.V. B21-403
LOCATION:B-221
SUMMARY:Vector and Tensor Analysis
RRULE:FREQ=WEEKLY;UNTIL=20221215T100500;INTERVAL=2;WKST=MO
END:VEVENT
BEGIN:VEVENT
DTSTAMP:20260419T120445Z
UID:d8975d0b-e554-4655-b152-44b5f5d1541f
DTSTART;TZID=Europe/Moscow:20220901T101500
DTEND;TZID=Europe/Moscow:20220901T115000
DESCRIPTION:Suchkov M.V. B21-211
LOCATION:K-205
SUMMARY:Vector and Tensor Analysis
RRULE:FREQ=WEEKLY;UNTIL=20221215T115000;WKST=MO
END:VEVENT
BEGIN:VEVENT
DTSTAMP:20260419T120445Z
UID:5444b9f6-5ba8-49bf-a9d9-5bbc672a96f7
DTSTART;TZID=Europe/Moscow:20220905T101500
DTEND;TZID=Europe/Moscow:20220905T115000
DESCRIPTION:Suchkov M.V. B21-403
LOCATION:K-402
SUMMARY:Vector and Tensor Analysis
RRULE:FREQ=WEEKLY;UNTIL=20221219T115000;WKST=MO
END:VEVENT
BEGIN:VEVENT
DTSTAMP:20260419T120445Z
UID:9b77b84e-9173-4b49-b0eb-94b716d833af
DTSTART;TZID=Europe/Moscow:20220901T115500
DTEND;TZID=Europe/Moscow:20220901T133000
DESCRIPTION:Suchkov M.V. B21-401\, B21-413
LOCATION:K-211
SUMMARY:Vector and Tensor Analysis
RRULE:FREQ=WEEKLY;UNTIL=20221215T133000;WKST=MO
END:VEVENT
BEGIN:VEVENT
DTSTAMP:20260419T120445Z
UID:996b1fca-9926-49f0-9219-7887b0531272
DTSTART;TZID=Europe/Moscow:20220905T115500
DTEND;TZID=Europe/Moscow:20220905T133000
DESCRIPTION:Suchkov M.V. B21-405\, S21-401
LOCATION:K-302
SUMMARY:Vector and Tensor Analysis
RRULE:FREQ=WEEKLY;UNTIL=20221212T133000;INTERVAL=2;WKST=MO
END:VEVENT
BEGIN:VEVENT
DTSTAMP:20260419T120446Z
UID:c4a658b6-8ffd-4240-bb2f-509543b2090b
DTSTART;TZID=Europe/Moscow:20220912T115500
DTEND;TZID=Europe/Moscow:20220912T133000
DESCRIPTION:Suchkov M.V. B21-401\, B21-413
LOCATION:K-302
SUMMARY:Vector and Tensor Analysis
RRULE:FREQ=WEEKLY;UNTIL=20221219T133000;INTERVAL=2;WKST=MO
END:VEVENT
BEGIN:VEVENT
DTSTAMP:20260419T120446Z
UID:6957f596-82c2-444e-a644-fc98fdd05adb
DTSTART;TZID=Europe/Moscow:20220902T124500
DTEND;TZID=Europe/Moscow:20220902T142000
DESCRIPTION:Suchkov M.V. B21-601
LOCATION:K-308
SUMMARY:Ordinary Differential Equations
RRULE:FREQ=WEEKLY;UNTIL=20221216T142000;WKST=MO
EXDATE:20221104T124500
END:VEVENT
BEGIN:VEVENT
DTSTAMP:20260419T120446Z
UID:53ad00a6-ca1b-4968-bec7-1195e71dd2d8
DTSTART;TZID=Europe/Moscow:20220901T143000
DTEND;TZID=Europe/Moscow:20220901T160500
DESCRIPTION:Suchkov M.V. B21-405\, S21-401
LOCATION:K-1006
SUMMARY:Vector and Tensor Analysis
RRULE:FREQ=WEEKLY;UNTIL=20221215T160500;WKST=MO
END:VEVENT
BEGIN:VEVENT
DTSTAMP:20260419T120446Z
UID:04fe8494-7132-4eef-ba60-9ad7cc2fce62
DTSTART;TZID=Europe/Moscow:20220907T143000
DTEND;TZID=Europe/Moscow:20220907T160500
DESCRIPTION:Suchkov M.V. B21-211
LOCATION:K-305
SUMMARY:Vector and Tensor Analysis
RRULE:FREQ=WEEKLY;UNTIL=20221214T160500;INTERVAL=2;WKST=MO
END:VEVENT
BEGIN:VEVENT
DTSTAMP:20260419T120446Z
UID:a33c3bf8-23ed-4d1c-8ddb-61c954008ffd
DTSTART;TZID=Europe/Moscow:20220907T161500
DTEND;TZID=Europe/Moscow:20220907T175000
DESCRIPTION:Suchkov M.V. B21-601
LOCATION:K-208
SUMMARY:Ordinary Differential Equations
RRULE:FREQ=WEEKLY;UNTIL=20221214T175000;INTERVAL=2;WKST=MO
END:VEVENT
END:VCALENDAR
