BEGIN:VCALENDAR
VERSION:2.0
PRODID:icalendar-ruby
CALSCALE:GREGORIAN
METHOD:PUBLISH
BEGIN:VTIMEZONE
TZID:Europe/Moscow
BEGIN:STANDARD
DTSTART:19700101T000000
TZOFFSETFROM:+0300
TZOFFSETTO:+0300
TZNAME:MSK
END:STANDARD
END:VTIMEZONE
BEGIN:VEVENT
DTSTAMP:20260420T025333Z
UID:43cd2a11-c161-4a0c-8c43-9c9259394640
DTSTART;TZID=Europe/Moscow:20220903T115500
DTEND;TZID=Europe/Moscow:20220903T133000
DESCRIPTION:Ageev A.I.\, Haritonov V.V.\, Silenko A.N.\, Semenova D.Y.\
 , Semenov E.V.\, Kornachev D.V.\, Koptelov M.V. M21-965
LOCATION:dep.72
SUMMARY:Practical Training (Research Work)
RRULE:FREQ=WEEKLY;UNTIL=20221217T133000;WKST=MO
END:VEVENT
BEGIN:VEVENT
DTSTAMP:20260420T025333Z
UID:6525716c-75be-453b-aa17-dfd9f775688e
DTSTART;TZID=Europe/Moscow:20220903T143000
DTEND;TZID=Europe/Moscow:20220903T160500
DESCRIPTION:Ageev A.I.\, Silenko A.N.\, Semenova D.Y.\, Semenov E.V.\, 
 Kornachev D.V.\, Koptelov M.V.\, Haritonov V.V. M21-965
SUMMARY:Science Practice Seminar: competitiveness of NPPs in context of dig
 ital energy transformation
RRULE:FREQ=WEEKLY;UNTIL=20221217T160500;WKST=MO
END:VEVENT
BEGIN:VEVENT
DTSTAMP:20260420T025333Z
UID:2db8702c-899e-4559-af30-2717a1e37618
DTSTART;TZID=Europe/Moscow:20220905T143000
DTEND;TZID=Europe/Moscow:20220905T160500
DESCRIPTION:Ageev A.I.\, Tupchienko V.A.\, Semenova D.Y.\, Semenov E.V.
 \, Kornachev D.V.\, Abramov V.I. M21-915
LOCATION:dep.72
SUMMARY:Practical Training (Research Work)
RRULE:FREQ=WEEKLY;UNTIL=20221219T160500;WKST=MO
END:VEVENT
BEGIN:VEVENT
DTSTAMP:20260420T025333Z
UID:06762d1f-dcb3-4ab5-b2f0-c746a91d14ea
DTSTART;TZID=Europe/Moscow:20220903T143000
DTEND;TZID=Europe/Moscow:20220903T160500
DESCRIPTION:Semenova D.Y.\, Haritonov V.V.\, Ageev A.I.\, Kornachev D.V
 .\, Semenov E.V. M21-966
LOCATION:dep.72
SUMMARY:Practical Training (Research Work)
RRULE:FREQ=WEEKLY;UNTIL=20221217T160500;WKST=MO
END:VEVENT
BEGIN:VEVENT
DTSTAMP:20260420T025333Z
UID:031f1dd7-dbdc-4941-a3e9-7717e7cf8872
DTSTART;TZID=Europe/Moscow:20220903T161500
DTEND;TZID=Europe/Moscow:20220903T175000
DESCRIPTION:Ageev A.I.\, Haritonov V.V. M21-965
SUMMARY:
RRULE:FREQ=WEEKLY;UNTIL=20221217T175000;WKST=MO
END:VEVENT
BEGIN:VEVENT
DTSTAMP:20260420T025333Z
UID:854b6787-3991-44ef-b829-23c3858b3187
DTSTART;TZID=Europe/Moscow:20220903T161500
DTEND;TZID=Europe/Moscow:20220903T175000
DESCRIPTION:Ageev A.I.\, Abrosimov N.V.\, Smirnov D.S. M21-962
SUMMARY:Practical Training (Research Work)
RRULE:FREQ=WEEKLY;UNTIL=20221217T175000;WKST=MO
END:VEVENT
BEGIN:VEVENT
DTSTAMP:20260420T025333Z
UID:24398354-e421-4f54-9ae2-a4d65258bbfe
DTSTART;TZID=Europe/Moscow:20220914T184500
DTEND;TZID=Europe/Moscow:20220914T202000
DESCRIPTION:Fomina A.V.\, Tupchienko V.A.\, Ageev A.I.\, Abrosimov N.V.
  M22-902
SUMMARY:Practical Training (Research Work)
RRULE:FREQ=WEEKLY;UNTIL=20221221T202000;INTERVAL=2;WKST=MO
END:VEVENT
BEGIN:VEVENT
DTSTAMP:20260420T025333Z
UID:3055a929-2cad-477c-b2d2-c757c2ee661a
DTSTART;TZID=Europe/Moscow:20220914T184500
DTEND;TZID=Europe/Moscow:20220914T202000
DESCRIPTION:Tupchienko V.A.\, Ageev A.I. M22-915
LOCATION:dep.72
SUMMARY:Practical Training (Research Work)
RRULE:FREQ=WEEKLY;UNTIL=20221221T202000;INTERVAL=2;WKST=MO
END:VEVENT
BEGIN:VEVENT
DTSTAMP:20260420T025333Z
UID:4145ca6c-1deb-4868-b2cc-55041a82ae39
DTSTART;TZID=Europe/Moscow:20220902T202500
DTEND;TZID=Europe/Moscow:20220902T220000
DESCRIPTION:Ageev A.I.\, Tupchienko V.A. M22-915
LOCATION:dep.72
SUMMARY:Practical Training (Research Work)
RRULE:FREQ=WEEKLY;UNTIL=20221216T220000;WKST=MO
EXDATE:20221104T202500
END:VEVENT
BEGIN:VEVENT
DTSTAMP:20260420T025333Z
UID:ebd91ee4-55da-4896-bbea-445a2ea48544
DTSTART;TZID=Europe/Moscow:20220901T202500
DTEND;TZID=Europe/Moscow:20220901T220000
DESCRIPTION:Abrosimov N.V.\, Ageev A.I.\, Fomina A.V.\, Tupchienko V.A.
  M22-902
LOCATION:dep.72
SUMMARY:Practical Training (Research Work)
RRULE:FREQ=WEEKLY;UNTIL=20221208T220000;INTERVAL=2;WKST=MO
END:VEVENT
BEGIN:VEVENT
DTSTAMP:20260420T025333Z
UID:8edec7c1-a9ec-470e-8496-fac9cf8a753c
DTSTART;TZID=Europe/Moscow:20220901T202500
DTEND;TZID=Europe/Moscow:20220901T220000
DESCRIPTION:Ageev A.I.\, Tupchienko V.A. M22-915
LOCATION:dep.72
SUMMARY:Practical Training (Research Work)
RRULE:FREQ=WEEKLY;UNTIL=20221208T220000;INTERVAL=2;WKST=MO
END:VEVENT
END:VCALENDAR
