BEGIN:VCALENDAR
VERSION:2.0
PRODID:icalendar-ruby
CALSCALE:GREGORIAN
METHOD:PUBLISH
BEGIN:VTIMEZONE
TZID:Europe/Moscow
BEGIN:STANDARD
DTSTART:19700101T000000
TZOFFSETFROM:+0300
TZOFFSETTO:+0300
TZNAME:MSK
END:STANDARD
END:VTIMEZONE
BEGIN:VEVENT
DTSTAMP:20260420T125550Z
UID:81aa9949-4f0f-45c2-a6bd-e6b8a1f9bf26
DTSTART;TZID=Europe/Moscow:20220907T184500
DTEND;TZID=Europe/Moscow:20220907T202000
DESCRIPTION:Sapuntsov A.L. M21-781\, M22-721
LOCATION:K-302
SUMMARY:International System Fighting the Legalization of Criminal Incomes 
 and Terrorism Financing 
RRULE:FREQ=WEEKLY;UNTIL=20221019T202000;INTERVAL=2;WKST=MO
END:VEVENT
BEGIN:VEVENT
DTSTAMP:20260420T125550Z
UID:40c45df3-6a9d-4361-bdd5-cffb0d452247
DTSTART;TZID=Europe/Moscow:20220907T202500
DTEND;TZID=Europe/Moscow:20220907T220000
DESCRIPTION:Sapuntsov A.L. M21-781\, M22-721
LOCATION:K-302
SUMMARY:International System Fighting the Legalization of Criminal Incomes 
 and Terrorism Financing 
RRULE:FREQ=WEEKLY;UNTIL=20221116T220000;INTERVAL=2;WKST=MO
END:VEVENT
BEGIN:VEVENT
DTSTAMP:20260420T125550Z
UID:4f379fda-0629-44ed-821c-42bdacd699af
DTSTART;TZID=Europe/Moscow:20221102T184500
DTEND;TZID=Europe/Moscow:20221102T202000
DESCRIPTION:Sapuntsov A.L. M21-781\, M22-721
LOCATION:K-302
SUMMARY:International System Fighting the Legalization of Criminal Incomes 
 and Terrorism Financing 
RRULE:FREQ=WEEKLY;UNTIL=20221116T202000;INTERVAL=2;WKST=MO
END:VEVENT
END:VCALENDAR
