BEGIN:VCALENDAR
VERSION:2.0
PRODID:icalendar-ruby
CALSCALE:GREGORIAN
METHOD:PUBLISH
BEGIN:VTIMEZONE
TZID:Europe/Moscow
BEGIN:STANDARD
DTSTART:19700101T000000
TZOFFSETFROM:+0300
TZOFFSETTO:+0300
TZNAME:MSK
END:STANDARD
END:VTIMEZONE
BEGIN:VEVENT
DTSTAMP:20260420T144037Z
UID:fa569a2e-7701-4786-90b9-e10cd3cac6e9
DTSTART;TZID=Europe/Moscow:20220903T124500
DTEND;TZID=Europe/Moscow:20220903T142000
DESCRIPTION:Melkonyan S.E.\, Ayrapetyan S. M22-705
LOCATION:K-805
SUMMARY:Specialized Database and Information System Technologies
RRULE:FREQ=WEEKLY;UNTIL=20221210T142000;INTERVAL=2;WKST=MO
END:VEVENT
BEGIN:VEVENT
DTSTAMP:20260420T144037Z
UID:9013412c-f6fa-4925-8d3f-a9cdc83041ff
DTSTART;TZID=Europe/Moscow:20220910T124500
DTEND;TZID=Europe/Moscow:20220910T142000
DESCRIPTION:Melkonyan S.E.\, Ayrapetyan S. B19-702
LOCATION:K-823
SUMMARY:Intelligent Information Systems
RRULE:FREQ=WEEKLY;UNTIL=20221217T142000;INTERVAL=2;WKST=MO
END:VEVENT
BEGIN:VEVENT
DTSTAMP:20260420T144037Z
UID:efb63cf8-6bdc-4cf2-bc70-41320ae62cbe
DTSTART;TZID=Europe/Moscow:20220903T143000
DTEND;TZID=Europe/Moscow:20220903T160500
DESCRIPTION:Ayrapetyan S.\, Melkonyan S.E. M22-705
LOCATION:K-805
SUMMARY:Specialized Database and Information System Technologies
RRULE:FREQ=WEEKLY;UNTIL=20221210T160500;INTERVAL=2;WKST=MO
END:VEVENT
BEGIN:VEVENT
DTSTAMP:20260420T144037Z
UID:66c3cfc4-9ecf-4421-8764-1692d3617c64
DTSTART;TZID=Europe/Moscow:20220910T143000
DTEND;TZID=Europe/Moscow:20220910T160500
DESCRIPTION:Ayrapetyan S.\, Melkonyan S.E. B19-702
LOCATION:K-823
SUMMARY:Intelligent Information Systems
RRULE:FREQ=WEEKLY;UNTIL=20221217T160500;INTERVAL=2;WKST=MO
END:VEVENT
BEGIN:VEVENT
DTSTAMP:20260420T144037Z
UID:25b8a080-cbef-48eb-8863-d6a9ad72370f
DTSTART;TZID=Europe/Moscow:20220903T161500
DTEND;TZID=Europe/Moscow:20220903T175000
DESCRIPTION:Melkonyan S.E.\, Ayrapetyan S. M22-705
LOCATION:K-805
SUMMARY:Specialized Database and Information System Technologies
RRULE:FREQ=WEEKLY;UNTIL=20221210T175000;INTERVAL=2;WKST=MO
END:VEVENT
BEGIN:VEVENT
DTSTAMP:20260420T144037Z
UID:1a44e57e-2e23-451b-a4cc-72f56a762197
DTSTART;TZID=Europe/Moscow:20220905T184500
DTEND;TZID=Europe/Moscow:20220905T220000
DESCRIPTION:Melkonyan S.E. M21-721
LOCATION:K-823
SUMMARY:Specialized Database and Information System Technologies
RRULE:FREQ=WEEKLY;UNTIL=20221219T220000;WKST=MO
END:VEVENT
END:VCALENDAR
