BEGIN:VCALENDAR
VERSION:2.0
PRODID:icalendar-ruby
CALSCALE:GREGORIAN
METHOD:PUBLISH
BEGIN:VTIMEZONE
TZID:Europe/Moscow
BEGIN:STANDARD
DTSTART:19700101T000000
TZOFFSETFROM:+0300
TZOFFSETTO:+0300
TZNAME:MSK
END:STANDARD
END:VTIMEZONE
BEGIN:VEVENT
DTSTAMP:20260420T125728Z
UID:6cb5f3b0-2c90-4462-8068-6c22babd4ac7
DTSTART;TZID=Europe/Moscow:20220903T101500
DTEND;TZID=Europe/Moscow:20220903T115000
DESCRIPTION:Parfenova M.D.\, Vinokurova T.K. M22-701\, M22-711\, M22-721
LOCATION:K-409
SUMMARY:Microeconomics (Advanced Level)
RRULE:FREQ=WEEKLY;UNTIL=20220924T115000;WKST=MO
END:VEVENT
BEGIN:VEVENT
DTSTAMP:20260420T125728Z
UID:8a7bd89a-3af8-4f67-9ccf-a8f67e5f6680
DTSTART;TZID=Europe/Moscow:20220903T124500
DTEND;TZID=Europe/Moscow:20220903T142000
DESCRIPTION:Parfenova M.D. M21-781
LOCATION:K-302
SUMMARY:Business Evaluation and Value-Dased Management
RRULE:FREQ=WEEKLY;UNTIL=20221008T142000;WKST=MO
END:VEVENT
BEGIN:VEVENT
DTSTAMP:20260420T125728Z
UID:20e8f8bf-e370-45ee-8bc8-d828422da725
DTSTART;TZID=Europe/Moscow:20220905T184500
DTEND;TZID=Europe/Moscow:20220905T202000
DESCRIPTION:Parfenova M.D. M20-752
SUMMARY:
RRULE:FREQ=WEEKLY;UNTIL=20221010T202000;WKST=MO
END:VEVENT
BEGIN:VEVENT
DTSTAMP:20260420T125728Z
UID:d74f88ae-cba0-429d-aea1-e9bb1181c4cf
DTSTART;TZID=Europe/Moscow:20220905T202500
DTEND;TZID=Europe/Moscow:20220905T220000
DESCRIPTION:Parfenova M.D. M20-752
SUMMARY:
RRULE:FREQ=WEEKLY;UNTIL=20221010T220000;WKST=MO
END:VEVENT
BEGIN:VEVENT
DTSTAMP:20260420T125728Z
UID:f2eef66c-f277-4094-a117-c40796d83279
DTSTART;TZID=Europe/Moscow:20221001T101500
DTEND;TZID=Europe/Moscow:20221001T115000
DESCRIPTION:Parfenova M.D.\, Vinokurova T.K. M22-701\, M22-711\, M22-721
LOCATION:K-409
SUMMARY:Microeconomics (Advanced Level)
RRULE:FREQ=WEEKLY;UNTIL=20221105T115000;WKST=MO
END:VEVENT
BEGIN:VEVENT
DTSTAMP:20260420T125728Z
UID:11e4276d-dce9-4dd0-b49b-9a3e1e4d38b6
DTSTART;TZID=Europe/Moscow:20221015T124500
DTEND;TZID=Europe/Moscow:20221015T142000
DESCRIPTION:Parfenova M.D. M21-781
LOCATION:K-302
SUMMARY:Business Evaluation and Value-Dased Management
RRULE:FREQ=WEEKLY;UNTIL=20221217T142000;WKST=MO
END:VEVENT
END:VCALENDAR
