BEGIN:VCALENDAR
VERSION:2.0
PRODID:icalendar-ruby
CALSCALE:GREGORIAN
METHOD:PUBLISH
BEGIN:VTIMEZONE
TZID:Europe/Moscow
BEGIN:STANDARD
DTSTART:19700101T000000
TZOFFSETFROM:+0300
TZOFFSETTO:+0300
TZNAME:MSK
END:STANDARD
END:VTIMEZONE
BEGIN:VEVENT
DTSTAMP:20260419T221220Z
UID:01d71954-ce87-4d5d-b59f-448d5425ce14
DTSTART;TZID=Europe/Moscow:20220914T124500
DTEND;TZID=Europe/Moscow:20220914T142000
DESCRIPTION:Kishkin V.L. B20-603
LOCATION:dep.2
SUMMARY:Academic Practice (Introductoion)
RRULE:FREQ=WEEKLY;UNTIL=20221221T142000;INTERVAL=2;WKST=MO
END:VEVENT
BEGIN:VEVENT
DTSTAMP:20260419T221220Z
UID:17de05b0-0837-421e-b90b-7f46064bda12
DTSTART;TZID=Europe/Moscow:20220901T133500
DTEND;TZID=Europe/Moscow:20220901T151500
DESCRIPTION:Kishkin V.L. M22-602
SUMMARY:Academic practice (industry\, technology)
RRULE:FREQ=WEEKLY;UNTIL=20221215T151500;WKST=MO
END:VEVENT
END:VCALENDAR
