BEGIN:VCALENDAR
VERSION:2.0
PRODID:icalendar-ruby
CALSCALE:GREGORIAN
METHOD:PUBLISH
BEGIN:VTIMEZONE
TZID:Europe/Moscow
BEGIN:STANDARD
DTSTART:19700101T000000
TZOFFSETFROM:+0300
TZOFFSETTO:+0300
TZNAME:MSK
END:STANDARD
END:VTIMEZONE
BEGIN:VEVENT
DTSTAMP:20260419T170438Z
UID:99f9522a-2a42-46be-89f6-7c311bf4685c
DTSTART;TZID=Europe/Moscow:20220903T092000
DTEND;TZID=Europe/Moscow:20220903T110000
DESCRIPTION:Savin A.V. M22-517
LOCATION:V-116
SUMMARY:Architecture of Modern Operating Systems
RRULE:FREQ=WEEKLY;UNTIL=20221217T110000;WKST=MO
END:VEVENT
BEGIN:VEVENT
DTSTAMP:20260419T170438Z
UID:e5d6a662-ca56-4ec6-8544-fc2300970baa
DTSTART;TZID=Europe/Moscow:20220903T110500
DTEND;TZID=Europe/Moscow:20220903T115000
DESCRIPTION:Savin A.V. M22-517
LOCATION:V-116
SUMMARY:Architecture of Modern Operating Systems
RRULE:FREQ=WEEKLY;UNTIL=20221217T115000;WKST=MO
END:VEVENT
END:VCALENDAR
