BEGIN:VCALENDAR
VERSION:2.0
PRODID:icalendar-ruby
CALSCALE:GREGORIAN
METHOD:PUBLISH
BEGIN:VTIMEZONE
TZID:Europe/Moscow
BEGIN:STANDARD
DTSTART:19700101T000000
TZOFFSETFROM:+0300
TZOFFSETTO:+0300
TZNAME:MSK
END:STANDARD
END:VTIMEZONE
BEGIN:VEVENT
DTSTAMP:20260419T210849Z
UID:9111bdcd-2440-4f05-993c-582dd6410593
DTSTART;TZID=Europe/Moscow:20220906T083000
DTEND;TZID=Europe/Moscow:20220906T100500
DESCRIPTION:Ivanenko V.G. B19-503\, B19-513\, B20-503\, B20-513\, B20-523
LOCATION:T-208
SUMMARY:Principles of cyber security in nuclear energy
RRULE:FREQ=WEEKLY;UNTIL=20221220T100500;WKST=MO
END:VEVENT
BEGIN:VEVENT
DTSTAMP:20260419T210849Z
UID:6749c86e-4f64-43bb-96e1-0891ba47b109
DTSTART;TZID=Europe/Moscow:20220901T101500
DTEND;TZID=Europe/Moscow:20220901T115000
DESCRIPTION:Ivanenko V.G. B20-515
LOCATION:T-101
SUMMARY:Information Theory
RRULE:FREQ=WEEKLY;UNTIL=20221215T115000;WKST=MO
END:VEVENT
BEGIN:VEVENT
DTSTAMP:20260419T210849Z
UID:2576d4b2-c2f3-4dbd-b54a-264d002ee88e
DTSTART;TZID=Europe/Moscow:20220906T101500
DTEND;TZID=Europe/Moscow:20220906T115000
DESCRIPTION:Ivanenko V.G. B20-561\, B20-565
LOCATION:T-101
SUMMARY:Information Theory
RRULE:FREQ=WEEKLY;UNTIL=20221220T115000;WKST=MO
END:VEVENT
BEGIN:VEVENT
DTSTAMP:20260419T210849Z
UID:66b9f841-6798-4f90-9a72-e63418b13fd1
DTSTART;TZID=Europe/Moscow:20220907T101500
DTEND;TZID=Europe/Moscow:20220907T115000
DESCRIPTION:Ivanenko V.G. B20-505
LOCATION:T-101
SUMMARY:Information Theory
RRULE:FREQ=WEEKLY;UNTIL=20221221T115000;WKST=MO
END:VEVENT
BEGIN:VEVENT
DTSTAMP:20260419T210849Z
UID:5264ba8e-85cb-4f70-b953-281c049bb6ca
DTSTART;TZID=Europe/Moscow:20220907T115500
DTEND;TZID=Europe/Moscow:20220907T133000
DESCRIPTION:Ivanenko V.G. B20-505\, B20-515\, B20-525\, B20-561\, B20-565
LOCATION:T-208
SUMMARY:Information Theory
RRULE:FREQ=WEEKLY;UNTIL=20221221T133000;WKST=MO
END:VEVENT
BEGIN:VEVENT
DTSTAMP:20260419T210849Z
UID:9328d0ae-5bd6-479b-8692-06773db62e95
DTSTART;TZID=Europe/Moscow:20220901T124500
DTEND;TZID=Europe/Moscow:20220901T142000
DESCRIPTION:Ivanenko V.G. B20-525
LOCATION:T-101
SUMMARY:Information Theory
RRULE:FREQ=WEEKLY;UNTIL=20221215T142000;WKST=MO
END:VEVENT
BEGIN:VEVENT
DTSTAMP:20260419T210849Z
UID:77145335-a413-45c1-8843-806e5df45e5b
DTSTART;TZID=Europe/Moscow:20220907T143000
DTEND;TZID=Europe/Moscow:20220907T160500
DESCRIPTION:Ivanenko V.G. B20-525
LOCATION:K-411
SUMMARY:
RRULE:FREQ=WEEKLY;UNTIL=20221221T160500;WKST=MO
END:VEVENT
BEGIN:VEVENT
DTSTAMP:20260419T210850Z
UID:355e6962-1d29-4dfb-97b8-c765e1c2b15f
DTSTART;TZID=Europe/Moscow:20220908T161500
DTEND;TZID=Europe/Moscow:20220908T175000
DESCRIPTION:Ivanenko V.G. B20-525
LOCATION:T-108
SUMMARY:
RRULE:FREQ=WEEKLY;UNTIL=20221215T175000;INTERVAL=2;WKST=MO
END:VEVENT
BEGIN:VEVENT
DTSTAMP:20260419T210850Z
UID:d31038e2-3d4b-48f4-bea0-f21c542af150
DTSTART;TZID=Europe/Moscow:20220907T175500
DTEND;TZID=Europe/Moscow:20220907T193000
DESCRIPTION:Ivanenko V.G. M22-506\, M22-V02
LOCATION:T-107
SUMMARY:Principles of cyber security in nuclear energy
RRULE:FREQ=WEEKLY;UNTIL=20221221T193000;WKST=MO
END:VEVENT
END:VCALENDAR
