BEGIN:VCALENDAR
VERSION:2.0
PRODID:icalendar-ruby
CALSCALE:GREGORIAN
METHOD:PUBLISH
BEGIN:VTIMEZONE
TZID:Europe/Moscow
BEGIN:STANDARD
DTSTART:19700101T000000
TZOFFSETFROM:+0300
TZOFFSETTO:+0300
TZNAME:MSK
END:STANDARD
END:VTIMEZONE
BEGIN:VEVENT
DTSTAMP:20260419T221050Z
UID:f7483d15-f935-43fc-a632-68b7f2b24dbe
DTSTART;TZID=Europe/Moscow:20220901T083000
DTEND;TZID=Europe/Moscow:20220901T133000
DESCRIPTION:Rybina G.V.\, Grigoriev A.A.\, Demidov D.V.\, Slinkov A.A.\
 , Trofimov A.G. B19-504\, B19-514
LOCATION:dep.22
SUMMARY:
RRULE:FREQ=WEEKLY;UNTIL=20221215T133000;WKST=MO
END:VEVENT
BEGIN:VEVENT
DTSTAMP:20260419T221050Z
UID:03143eae-066b-4df8-98c8-2c7fb19d2506
DTSTART;TZID=Europe/Moscow:20220901T083000
DTEND;TZID=Europe/Moscow:20220901T133000
DESCRIPTION:Tihomirova D.V.\, Tihomirova A.N.\, Samsonovich A.\, Roslovt
 sev V.V.\, Petrovskaya A.V.\, Ovsyannikova N.V.\, Nikiforov A.Y.\, Kti
 trov S.V.\, Korotkova M.A.\, Klimov V.V.\, Kireev V.S.\, Volfengagen 
 V.E.\, Zagrebaev A.M.\, Schukin B.A.\, Shapkin P.A.\, Trofimov A.G. B1
 9-504\, B19-514
LOCATION:dep.22
SUMMARY:
RRULE:FREQ=WEEKLY;UNTIL=20221215T133000;WKST=MO
END:VEVENT
BEGIN:VEVENT
DTSTAMP:20260419T221050Z
UID:f8938c7e-c84c-460d-b429-e1dbba0278e5
DTSTART;TZID=Europe/Moscow:20220905T124500
DTEND;TZID=Europe/Moscow:20220905T142000
DESCRIPTION:Trofimov A.G. B20-500\, B20-504\, B20-514\, B20-524\, B20-564\
 , B20-703\, B20-763\, S20-702\, S20-703
LOCATION:406
SUMMARY:Mathematical Statistics
RRULE:FREQ=WEEKLY;UNTIL=20221219T142000;WKST=MO
END:VEVENT
BEGIN:VEVENT
DTSTAMP:20260419T221050Z
UID:ff813759-9275-4e07-aef6-08c9f867a308
DTSTART;TZID=Europe/Moscow:20220902T124500
DTEND;TZID=Europe/Moscow:20220902T142000
DESCRIPTION:Trofimov A.G. B19-902
LOCATION:K-1218
SUMMARY:Introduction to The Theory of Neural Networks
RRULE:FREQ=WEEKLY;UNTIL=20221118T142000;WKST=MO
EXDATE:20221104T124500
END:VEVENT
BEGIN:VEVENT
DTSTAMP:20260419T221050Z
UID:26940fdd-adbf-4d9f-bc59-d18be6d09ea3
DTSTART;TZID=Europe/Moscow:20220907T124500
DTEND;TZID=Europe/Moscow:20220907T142000
DESCRIPTION:Roslovtsev V.V.\, Samanchuk V.N.\, Rybina G.V.\, Zagrebaev 
 A.M.\, Demidov D.V.\, Kireev V.S.\, Ktitrov S.V.\, Nikiforov A.Y.\, Pe
 trovskaya A.V.\, Schukin B.A.\, Trofimov A.G.\, Tihomirova D.V.\, Tiho
 mirova A.N.\, Samsonovich A. M21-514\, M21-524\, M21-534
LOCATION:dep.22
SUMMARY:Practical Training (Research Work)
RRULE:FREQ=WEEKLY;UNTIL=20221221T142000;WKST=MO
END:VEVENT
BEGIN:VEVENT
DTSTAMP:20260419T221050Z
UID:b76a91f6-cb62-4e30-9b1d-8cf06e28f251
DTSTART;TZID=Europe/Moscow:20220906T124500
DTEND;TZID=Europe/Moscow:20220906T142000
DESCRIPTION:Trofimov A.G. B20-514
LOCATION:K-310
SUMMARY:Mathematical Statistics
RRULE:FREQ=WEEKLY;UNTIL=20221213T142000;INTERVAL=2;WKST=MO
END:VEVENT
BEGIN:VEVENT
DTSTAMP:20260419T221050Z
UID:c814f6eb-5218-453d-9cd5-389d8951a066
DTSTART;TZID=Europe/Moscow:20220913T124500
DTEND;TZID=Europe/Moscow:20220913T142000
DESCRIPTION:Trofimov A.G. B20-514
LOCATION:K-310
SUMMARY:Mathematical Statistics
RRULE:FREQ=WEEKLY;UNTIL=20221220T142000;INTERVAL=2;WKST=MO
END:VEVENT
BEGIN:VEVENT
DTSTAMP:20260419T221050Z
UID:66fd6fa5-5c75-4671-b39c-d658d6cbe849
DTSTART;TZID=Europe/Moscow:20220901T143000
DTEND;TZID=Europe/Moscow:20220901T160500
DESCRIPTION:Trofimov A.G. M22-594
LOCATION:dep.22
SUMMARY:
RRULE:FREQ=WEEKLY;UNTIL=20221215T160500;WKST=MO
END:VEVENT
BEGIN:VEVENT
DTSTAMP:20260419T221050Z
UID:d1e9ee25-d1c1-4827-8ed7-0ebbc3a78060
DTSTART;TZID=Europe/Moscow:20220902T143000
DTEND;TZID=Europe/Moscow:20220902T160500
DESCRIPTION:Trofimov A.G. M21-524\, M21-534
LOCATION:K-923
SUMMARY:
RRULE:FREQ=WEEKLY;UNTIL=20221216T160500;WKST=MO
EXDATE:20221104T143000
END:VEVENT
BEGIN:VEVENT
DTSTAMP:20260419T221050Z
UID:f976cc26-e072-49ea-9e4c-121ba75d322b
DTSTART;TZID=Europe/Moscow:20220905T143000
DTEND;TZID=Europe/Moscow:20220905T160500
DESCRIPTION:Trofimov A.G. M21-514\, M21-564
LOCATION:K-312
SUMMARY:Computer Training
RRULE:FREQ=WEEKLY;UNTIL=20221219T160500;WKST=MO
END:VEVENT
BEGIN:VEVENT
DTSTAMP:20260419T221050Z
UID:143139af-c779-4fb3-a9e9-59c0da2cbf22
DTSTART;TZID=Europe/Moscow:20220902T143000
DTEND;TZID=Europe/Moscow:20220902T160500
DESCRIPTION:Zagrebaev A.M.\, Trofimov A.G.\, Roslovtsev V.V.\, Nikiforov
  A.Y.\, Kireev V.S. M21-564\, M21-582\, M21-583\, M21-584
LOCATION:dep.22
SUMMARY:Practical Training (Research Work)
RRULE:FREQ=WEEKLY;UNTIL=20221216T160500;WKST=MO
EXDATE:20221104T143000
END:VEVENT
BEGIN:VEVENT
DTSTAMP:20260419T221050Z
UID:382e5271-e67e-4349-aafe-6ddfc72a5614
DTSTART;TZID=Europe/Moscow:20220907T143000
DTEND;TZID=Europe/Moscow:20220907T160500
DESCRIPTION:Trofimov A.G. M22-564
SUMMARY:
RRULE:FREQ=WEEKLY;UNTIL=20221214T160500;INTERVAL=2;WKST=MO
END:VEVENT
BEGIN:VEVENT
DTSTAMP:20260419T221050Z
UID:96daa26e-f120-456b-8a0f-66ddafec3480
DTSTART;TZID=Europe/Moscow:20220906T143000
DTEND;TZID=Europe/Moscow:20220906T160500
DESCRIPTION:Trofimov A.G. B20-524\, B20-564
LOCATION:K-310
SUMMARY:Mathematical Statistics
RRULE:FREQ=WEEKLY;UNTIL=20221213T160500;INTERVAL=2;WKST=MO
END:VEVENT
BEGIN:VEVENT
DTSTAMP:20260419T221050Z
UID:5694a7fc-aeab-48c4-8ae9-05d919a93179
DTSTART;TZID=Europe/Moscow:20220914T143000
DTEND;TZID=Europe/Moscow:20220914T160500
DESCRIPTION:Trofimov A.G. M22-564
SUMMARY:
RRULE:FREQ=WEEKLY;UNTIL=20221221T160500;INTERVAL=2;WKST=MO
END:VEVENT
BEGIN:VEVENT
DTSTAMP:20260419T221050Z
UID:5c1bee3d-a8ff-4d75-849e-8a7f54cff227
DTSTART;TZID=Europe/Moscow:20220913T143000
DTEND;TZID=Europe/Moscow:20220913T160500
DESCRIPTION:Trofimov A.G. B20-524\, B20-564
LOCATION:K-310
SUMMARY:Mathematical Statistics
RRULE:FREQ=WEEKLY;UNTIL=20221220T160500;INTERVAL=2;WKST=MO
END:VEVENT
BEGIN:VEVENT
DTSTAMP:20260419T221050Z
UID:bd5f9bd4-70ed-4468-b03c-236f63ddd60c
DTSTART;TZID=Europe/Moscow:20220902T161500
DTEND;TZID=Europe/Moscow:20220902T175000
DESCRIPTION:Trofimov A.G. M21-524\, M21-534
LOCATION:K-923
SUMMARY:
RRULE:FREQ=WEEKLY;UNTIL=20221216T175000;WKST=MO
EXDATE:20221104T161500
END:VEVENT
BEGIN:VEVENT
DTSTAMP:20260419T221050Z
UID:acc7eca7-df41-4bda-ae9c-0afc8267bbf5
DTSTART;TZID=Europe/Moscow:20220905T161500
DTEND;TZID=Europe/Moscow:20220905T175000
DESCRIPTION:Trofimov A.G. B20-500\, B20-504
LOCATION:K-310
SUMMARY:Mathematical Statistics
RRULE:FREQ=WEEKLY;UNTIL=20221212T175000;INTERVAL=2;WKST=MO
END:VEVENT
BEGIN:VEVENT
DTSTAMP:20260419T221050Z
UID:4c6d7038-4e4e-438c-acd7-cd2613b4db97
DTSTART;TZID=Europe/Moscow:20220901T161500
DTEND;TZID=Europe/Moscow:20220901T175000
DESCRIPTION:Trofimov A.G. M21-514\, M21-564\, M21-583
LOCATION:K-315
SUMMARY:Computer Training
RRULE:FREQ=WEEKLY;UNTIL=20221208T175000;INTERVAL=2;WKST=MO
END:VEVENT
BEGIN:VEVENT
DTSTAMP:20260419T221050Z
UID:7fea8af2-46d8-4ad7-be3b-da4e6c206701
DTSTART;TZID=Europe/Moscow:20220907T161500
DTEND;TZID=Europe/Moscow:20220907T175000
DESCRIPTION:Trofimov A.G. B19-902
LOCATION:K-1218
SUMMARY:Introduction to The Theory of Neural Networks
RRULE:FREQ=WEEKLY;UNTIL=20221214T175000;INTERVAL=2;WKST=MO
END:VEVENT
BEGIN:VEVENT
DTSTAMP:20260419T221050Z
UID:7f428e8f-a9bc-4d1b-94c0-66c728731d8e
DTSTART;TZID=Europe/Moscow:20220907T161500
DTEND;TZID=Europe/Moscow:20220907T175000
DESCRIPTION:Nikiforov A.Y.\, Nemeshaev S.A.\, Korotkova M.A.\, Kireev V
 .S.\, Demidov D.V.\, Samsonovich A.\, Schukin B.A.\, Shapkin P.A.\, Ti
 homirova A.N.\, Trofimov A.G.\, Zagrebaev A.M.\, Tihomirova D.V.\, Ryb
 ina G.V.\, Roslovtsev V.V. M22-514
LOCATION:dep.22
SUMMARY:Practical Training (Research Work)
RRULE:FREQ=WEEKLY;UNTIL=20221214T175000;INTERVAL=2;WKST=MO
END:VEVENT
BEGIN:VEVENT
DTSTAMP:20260419T221050Z
UID:5914ad00-f35e-4c7a-a2a8-820a13ef4d93
DTSTART;TZID=Europe/Moscow:20220912T161500
DTEND;TZID=Europe/Moscow:20220912T175000
DESCRIPTION:Trofimov A.G. B20-500\, B20-504
LOCATION:K-310
SUMMARY:Mathematical Statistics
RRULE:FREQ=WEEKLY;UNTIL=20221219T175000;INTERVAL=2;WKST=MO
END:VEVENT
BEGIN:VEVENT
DTSTAMP:20260419T221050Z
UID:79f6414f-40c4-4727-95b2-e7b94851a4c2
DTSTART;TZID=Europe/Moscow:20220908T161500
DTEND;TZID=Europe/Moscow:20220908T175000
DESCRIPTION:Trofimov A.G. M21-583
LOCATION:dep.22
SUMMARY:Computer Training
RRULE:FREQ=WEEKLY;UNTIL=20221215T175000;INTERVAL=2;WKST=MO
END:VEVENT
BEGIN:VEVENT
DTSTAMP:20260419T221050Z
UID:311ed3b7-6550-4314-ba21-51ad9df6c2fe
DTSTART;TZID=Europe/Moscow:20220902T175500
DTEND;TZID=Europe/Moscow:20220902T193000
DESCRIPTION:Trofimov A.G. M22-594
LOCATION:K-923
SUMMARY:
RRULE:FREQ=WEEKLY;UNTIL=20221216T193000;WKST=MO
EXDATE:20221104T175500
END:VEVENT
BEGIN:VEVENT
DTSTAMP:20260419T221050Z
UID:b8391742-b4be-4125-855b-0c81ac419247
DTSTART;TZID=Europe/Moscow:20220901T175500
DTEND;TZID=Europe/Moscow:20220901T193000
DESCRIPTION:Samsonovich A.\, Nikiforov A.Y.\, Roslovtsev V.V.\, Rybina 
 G.V.\, Tihomirova A.N.\, Tihomirova D.V.\, Trofimov A.G.\, Shapkin P.A
 .\, Schukin B.A.\, Nemeshaev S.A.\, Zagrebaev A.M.\, Demidov D.V.\, Ki
 reev V.S.\, Korotkova M.A. M22-514
LOCATION:dep.22
SUMMARY:Practical Training (Research Work)
RRULE:FREQ=WEEKLY;UNTIL=20221208T193000;INTERVAL=2;WKST=MO
END:VEVENT
BEGIN:VEVENT
DTSTAMP:20260419T221050Z
UID:bca8a89d-8ba2-4ff2-8c6e-0084608c0b72
DTSTART;TZID=Europe/Moscow:20220913T175500
DTEND;TZID=Europe/Moscow:20220913T193000
DESCRIPTION:Trofimov A.G.\, Pivtoratskaya S.V. M22-501
LOCATION:K-312
SUMMARY:
RRULE:FREQ=WEEKLY;UNTIL=20221220T193000;INTERVAL=2;WKST=MO
END:VEVENT
BEGIN:VEVENT
DTSTAMP:20260419T221050Z
UID:42ed037e-a5b0-494d-b803-c4af6ca07c11
DTSTART;TZID=Europe/Moscow:20220905T184500
DTEND;TZID=Europe/Moscow:20220905T193000
DESCRIPTION:Trofimov A.G. M21-598
LOCATION:K-923
SUMMARY:Computer Training
RRULE:FREQ=WEEKLY;UNTIL=20221219T193000;WKST=MO
END:VEVENT
BEGIN:VEVENT
DTSTAMP:20260419T221050Z
UID:02ca42e5-eeaa-4320-bda0-e5909d71894e
DTSTART;TZID=Europe/Moscow:20220901T184500
DTEND;TZID=Europe/Moscow:20220901T202000
DESCRIPTION:Korotkova M.A.\, Petrovskaya A.V.\, Roslovtsev V.V.\, Rybina
  G.V.\, Tihomirova A.N.\, Tihomirova D.V.\, Trofimov A.G.\, Shapkin P
 .A.\, Schukin B.A.\, Zagrebaev A.M.\, Ovsyannikova N.V.\, Nikiforov A.
 Y.\, Nemeshaev S.A.\, Kireev V.S.\, Demidov D.V. M22-524
LOCATION:dep.22
SUMMARY:Practical Training (Research Work)
RRULE:FREQ=WEEKLY;UNTIL=20221215T202000;WKST=MO
END:VEVENT
BEGIN:VEVENT
DTSTAMP:20260419T221050Z
UID:9946ff3a-d8bf-4549-b7ad-6b387fd6741f
DTSTART;TZID=Europe/Moscow:20220907T184500
DTEND;TZID=Europe/Moscow:20220907T202000
DESCRIPTION:Trofimov A.G. M22-514\, M22-524
LOCATION:K-307
SUMMARY:
RRULE:FREQ=WEEKLY;UNTIL=20221214T202000;INTERVAL=2;WKST=MO
END:VEVENT
BEGIN:VEVENT
DTSTAMP:20260419T221050Z
UID:793f7557-a711-48ca-8d29-69710e6b58aa
DTSTART;TZID=Europe/Moscow:20220902T193500
DTEND;TZID=Europe/Moscow:20220902T211000
DESCRIPTION:Trofimov A.G. M22-501\, M22-514\, M22-524\, M22-564
SUMMARY:
RRULE:FREQ=WEEKLY;UNTIL=20221216T211000;WKST=MO
EXDATE:20221104T193500
END:VEVENT
BEGIN:VEVENT
DTSTAMP:20260419T221050Z
UID:aca944cd-5909-41ee-ba31-d84b8fb0e800
DTSTART;TZID=Europe/Moscow:20220905T193500
DTEND;TZID=Europe/Moscow:20220905T211000
DESCRIPTION:Trofimov A.G. M21-598
LOCATION:K-923
SUMMARY:Computer Training
RRULE:FREQ=WEEKLY;UNTIL=20221219T211000;WKST=MO
END:VEVENT
BEGIN:VEVENT
DTSTAMP:20260419T221050Z
UID:236937df-a1c2-4d29-bf37-c444ef8006f5
DTSTART;TZID=Europe/Moscow:20220913T193500
DTEND;TZID=Europe/Moscow:20220913T211000
DESCRIPTION:Pivtoratskaya S.V.\, Trofimov A.G. M22-501
LOCATION:K-312
SUMMARY:
RRULE:FREQ=WEEKLY;UNTIL=20221220T211000;INTERVAL=2;WKST=MO
END:VEVENT
BEGIN:VEVENT
DTSTAMP:20260419T221050Z
UID:306554f9-851b-4488-832c-730dec7ae9e6
DTSTART;TZID=Europe/Moscow:20220907T202500
DTEND;TZID=Europe/Moscow:20220907T220000
DESCRIPTION:Trofimov A.G. M22-524
LOCATION:K-315
SUMMARY:
RRULE:FREQ=WEEKLY;UNTIL=20221214T220000;INTERVAL=2;WKST=MO
END:VEVENT
BEGIN:VEVENT
DTSTAMP:20260419T221050Z
UID:d2ee1f26-9c56-4cbb-ba39-c18595dc2a11
DTSTART;TZID=Europe/Moscow:20220914T202500
DTEND;TZID=Europe/Moscow:20220914T220000
DESCRIPTION:Trofimov A.G. M22-514
LOCATION:K-312
SUMMARY:
RRULE:FREQ=WEEKLY;UNTIL=20221221T220000;INTERVAL=2;WKST=MO
END:VEVENT
BEGIN:VEVENT
DTSTAMP:20260419T221050Z
UID:764ebdfb-9b8d-4b97-8ff6-0b448f851833
DTSTART;TZID=Europe/Moscow:20220915T175500
DTEND;TZID=Europe/Moscow:20220915T193000
DESCRIPTION:Trofimov A.G. A20-501\, A20-502\, A20-702
LOCATION:K-312
SUMMARY:Statistical Analysis and Processing of Time Series
RRULE:FREQ=WEEKLY;UNTIL=20221222T193000;INTERVAL=2;WKST=MO
END:VEVENT
BEGIN:VEVENT
DTSTAMP:20260419T221050Z
UID:7b41646a-54ba-4198-b4d9-bf2c70265b33
DTSTART;TZID=Europe/Moscow:20220915T193500
DTEND;TZID=Europe/Moscow:20220915T211000
DESCRIPTION:Trofimov A.G. A20-501\, A20-502\, A20-702
LOCATION:K-312
SUMMARY:Statistical Analysis and Processing of Time Series
RRULE:FREQ=WEEKLY;UNTIL=20221222T211000;INTERVAL=2;WKST=MO
END:VEVENT
END:VCALENDAR
