BEGIN:VCALENDAR
VERSION:2.0
PRODID:icalendar-ruby
CALSCALE:GREGORIAN
METHOD:PUBLISH
BEGIN:VTIMEZONE
TZID:Europe/Moscow
BEGIN:STANDARD
DTSTART:19700101T000000
TZOFFSETFROM:+0300
TZOFFSETTO:+0300
TZNAME:MSK
END:STANDARD
END:VTIMEZONE
BEGIN:VEVENT
DTSTAMP:20260419T221111Z
UID:e9011d96-0f3e-4401-9ea9-7852e288538e
DTSTART;TZID=Europe/Moscow:20220905T101500
DTEND;TZID=Europe/Moscow:20220905T115000
DESCRIPTION:Krasnyuk A.A. M21-406\, M21-485
LOCATION:V-315
SUMMARY:Television and Space Systems
RRULE:FREQ=WEEKLY;UNTIL=20221212T115000;INTERVAL=2;WKST=MO
END:VEVENT
BEGIN:VEVENT
DTSTAMP:20260419T221111Z
UID:7855c27d-df8e-4861-890a-420160bc34c6
DTSTART;TZID=Europe/Moscow:20220912T101500
DTEND;TZID=Europe/Moscow:20220912T115000
DESCRIPTION:Krasnyuk A.A. M21-406\, M21-485
LOCATION:V-315
SUMMARY:Television and Space Systems
RRULE:FREQ=WEEKLY;UNTIL=20221219T115000;INTERVAL=2;WKST=MO
END:VEVENT
BEGIN:VEVENT
DTSTAMP:20260419T221111Z
UID:cf839a91-3d8b-4a4f-9d9a-346873a8e424
DTSTART;TZID=Europe/Moscow:20220905T143000
DTEND;TZID=Europe/Moscow:20220905T160500
DESCRIPTION:Krasnyuk A.A. S18-402
LOCATION:B-215
SUMMARY:Space and Television Systems
RRULE:FREQ=WEEKLY;UNTIL=20221212T160500;INTERVAL=2;WKST=MO
END:VEVENT
BEGIN:VEVENT
DTSTAMP:20260419T221111Z
UID:c54d623f-85c6-4022-b553-a4a4118e6856
DTSTART;TZID=Europe/Moscow:20220912T143000
DTEND;TZID=Europe/Moscow:20220912T160500
DESCRIPTION:Krasnyuk A.A. S18-402
LOCATION:V-417
SUMMARY:Space and Television Systems
RRULE:FREQ=WEEKLY;UNTIL=20221219T160500;INTERVAL=2;WKST=MO
END:VEVENT
BEGIN:VEVENT
DTSTAMP:20260419T221111Z
UID:730d5798-b028-4b6a-8631-65f6b986097e
DTSTART;TZID=Europe/Moscow:20220901T161500
DTEND;TZID=Europe/Moscow:20220901T175000
DESCRIPTION:Krasnyuk A.A. M21-406
LOCATION:V-315
SUMMARY:
RRULE:FREQ=WEEKLY;UNTIL=20221020T175000;WKST=MO
END:VEVENT
BEGIN:VEVENT
DTSTAMP:20260419T221111Z
UID:be4cad9a-e32e-48d2-aac0-e66d0ec7f7f6
DTSTART;TZID=Europe/Moscow:20220906T184500
DTEND;TZID=Europe/Moscow:20220906T211000
DESCRIPTION:Krasnyuk A.A. M22-406
LOCATION:V-315
SUMMARY:Materials Science
RRULE:FREQ=WEEKLY;UNTIL=20220920T211000;WKST=MO
END:VEVENT
BEGIN:VEVENT
DTSTAMP:20260419T221111Z
UID:b333cf4f-dff7-46b0-b3da-c7a358a2df5a
DTSTART;TZID=Europe/Moscow:20220927T184500
DTEND;TZID=Europe/Moscow:20220927T211000
DESCRIPTION:Krasnyuk A.A. M22-406
LOCATION:V-315
SUMMARY:Materials Science
RRULE:FREQ=WEEKLY;UNTIL=20221206T211000;WKST=MO
END:VEVENT
BEGIN:VEVENT
DTSTAMP:20260419T221111Z
UID:5b525768-a5fe-4eb7-a202-d370086ba25a
DTSTART;TZID=Europe/Moscow:20221027T161500
DTEND;TZID=Europe/Moscow:20221027T175000
DESCRIPTION:Krasnyuk A.A. M21-406
LOCATION:V-315
SUMMARY:
RRULE:FREQ=WEEKLY;UNTIL=20221117T175000;WKST=MO
END:VEVENT
END:VCALENDAR
