BEGIN:VCALENDAR
VERSION:2.0
PRODID:icalendar-ruby
CALSCALE:GREGORIAN
METHOD:PUBLISH
BEGIN:VTIMEZONE
TZID:Europe/Moscow
BEGIN:STANDARD
DTSTART:19700101T000000
TZOFFSETFROM:+0300
TZOFFSETTO:+0300
TZNAME:MSK
END:STANDARD
END:VTIMEZONE
BEGIN:VEVENT
DTSTAMP:20260419T165354Z
UID:7f0bbba6-98ac-47d7-910c-ea8440dfe041
DTSTART;TZID=Europe/Moscow:20220901T170500
DTEND;TZID=Europe/Moscow:20220901T184000
DESCRIPTION:Shilov B.V. M21-305
LOCATION:FNTS "InnFarmaTeh"
SUMMARY:
RRULE:FREQ=WEEKLY;UNTIL=20221215T184000;WKST=MO
END:VEVENT
BEGIN:VEVENT
DTSTAMP:20260419T165354Z
UID:51826fa8-4326-49c7-b33a-6b96ee430ad1
DTSTART;TZID=Europe/Moscow:20220901T193500
DTEND;TZID=Europe/Moscow:20220901T211000
DESCRIPTION:Shilov B.V. M22-305
LOCATION:OOO "Gen-lab"
SUMMARY:Biochemistry
RRULE:FREQ=WEEKLY;UNTIL=20221208T211000;WKST=MO
END:VEVENT
END:VCALENDAR
