BEGIN:VCALENDAR
VERSION:2.0
PRODID:icalendar-ruby
CALSCALE:GREGORIAN
METHOD:PUBLISH
BEGIN:VTIMEZONE
TZID:Europe/Moscow
BEGIN:STANDARD
DTSTART:19700101T000000
TZOFFSETFROM:+0300
TZOFFSETTO:+0300
TZNAME:MSK
END:STANDARD
END:VTIMEZONE
BEGIN:VEVENT
DTSTAMP:20260420T025418Z
UID:d6d6d60b-6a2d-4ae6-8475-fae1a08d91ea
DTSTART;TZID=Europe/Moscow:20220901T092000
DTEND;TZID=Europe/Moscow:20220901T100500
DESCRIPTION:Kamynin V.A. M22-213
LOCATION:IOF RAN
SUMMARY:Physical Optics
RRULE:FREQ=WEEKLY;UNTIL=20221215T100500;WKST=MO
END:VEVENT
BEGIN:VEVENT
DTSTAMP:20260420T025418Z
UID:25f1974a-fee2-4851-9d53-8f46452646e5
DTSTART;TZID=Europe/Moscow:20220901T101500
DTEND;TZID=Europe/Moscow:20220901T115000
DESCRIPTION:Kamynin V.A. M22-213
LOCATION:IOF RAN
SUMMARY:Physical Optics
RRULE:FREQ=WEEKLY;UNTIL=20221215T115000;WKST=MO
END:VEVENT
END:VCALENDAR
