BEGIN:VCALENDAR
VERSION:2.0
PRODID:icalendar-ruby
CALSCALE:GREGORIAN
METHOD:PUBLISH
BEGIN:VTIMEZONE
TZID:Europe/Moscow
BEGIN:STANDARD
DTSTART:19700101T000000
TZOFFSETFROM:+0300
TZOFFSETTO:+0300
TZNAME:MSK
END:STANDARD
END:VTIMEZONE
BEGIN:VEVENT
DTSTAMP:20260419T165413Z
UID:4c81618f-19ca-42e2-8645-65036203134b
DTSTART;TZID=Europe/Moscow:20220907T161500
DTEND;TZID=Europe/Moscow:20220907T175000
DESCRIPTION:Sadovskiy Y.A. M22-208
LOCATION:33-103
SUMMARY:Methods of surface analysis
RRULE:FREQ=WEEKLY;UNTIL=20220928T175000;WKST=MO
END:VEVENT
BEGIN:VEVENT
DTSTAMP:20260419T165413Z
UID:4bcc5aae-94a3-44ce-a9d6-fb4904175cc2
DTSTART;TZID=Europe/Moscow:20220905T161500
DTEND;TZID=Europe/Moscow:20220905T175000
DESCRIPTION:Sadovskiy Y.A. M21-287
LOCATION:5-204
SUMMARY:Physical Methods of Surface Investigation
RRULE:FREQ=WEEKLY;UNTIL=20221219T175000;WKST=MO
END:VEVENT
BEGIN:VEVENT
DTSTAMP:20260419T165413Z
UID:37211b50-2547-400f-a4a1-170fdc9b1a79
DTSTART;TZID=Europe/Moscow:20220905T175500
DTEND;TZID=Europe/Moscow:20220905T193000
DESCRIPTION:Sadovskiy Y.A. M21-287
LOCATION:5-204
SUMMARY:Physical Methods of Surface Investigation
RRULE:FREQ=WEEKLY;UNTIL=20221219T193000;WKST=MO
END:VEVENT
BEGIN:VEVENT
DTSTAMP:20260419T165413Z
UID:011d871d-67fc-45e7-8c53-43d63307071a
DTSTART;TZID=Europe/Moscow:20220905T193500
DTEND;TZID=Europe/Moscow:20220905T211000
DESCRIPTION:Sadovskiy Y.A. M21-287
LOCATION:5-204
SUMMARY:Physical Methods of Surface Investigation
RRULE:FREQ=WEEKLY;UNTIL=20221219T211000;WKST=MO
END:VEVENT
BEGIN:VEVENT
DTSTAMP:20260419T165413Z
UID:77fea8dd-4460-4a02-8082-6aa02902b7dd
DTSTART;TZID=Europe/Moscow:20221005T161500
DTEND;TZID=Europe/Moscow:20221005T175000
DESCRIPTION:Sadovskiy Y.A. M22-208
LOCATION:33-103
SUMMARY:Methods of surface analysis
RRULE:FREQ=WEEKLY;UNTIL=20221221T175000;WKST=MO
END:VEVENT
END:VCALENDAR
