BEGIN:VCALENDAR
VERSION:2.0
PRODID:icalendar-ruby
CALSCALE:GREGORIAN
METHOD:PUBLISH
BEGIN:VTIMEZONE
TZID:Europe/Moscow
BEGIN:STANDARD
DTSTART:19700101T000000
TZOFFSETFROM:+0300
TZOFFSETTO:+0300
TZNAME:MSK
END:STANDARD
END:VTIMEZONE
BEGIN:VEVENT
DTSTAMP:20260420T230442Z
UID:e5fe9fcc-972b-499d-91f8-43a8e54f2ba8
DTSTART;TZID=Europe/Moscow:20220903T083000
DTEND;TZID=Europe/Moscow:20220903T115000
DESCRIPTION:Shashkov Y.V.\, Gusarova M.A.\, Dmitriev M.S.\, Polozov S.M
 .\, Raschikov V.I. S19-201
LOCATION:dep.14
SUMMARY:
RRULE:FREQ=WEEKLY;UNTIL=20221210T115000;INTERVAL=2;WKST=MO
END:VEVENT
BEGIN:VEVENT
DTSTAMP:20260420T230442Z
UID:c3aab27c-dd0e-4f23-8694-5641c54a8a62
DTSTART;TZID=Europe/Moscow:20220910T083000
DTEND;TZID=Europe/Moscow:20220910T115000
DESCRIPTION:Beklemishev V.V.\, Korshunov A.M.\, Dmitriev M.S. S19-201
LOCATION:dep.14
SUMMARY:Term Project (Electronics)
RRULE:FREQ=WEEKLY;UNTIL=20221217T115000;INTERVAL=2;WKST=MO
END:VEVENT
BEGIN:VEVENT
DTSTAMP:20260420T230442Z
UID:418507e0-f388-4b78-b0ea-c223054ecff9
DTSTART;TZID=Europe/Moscow:20220909T083000
DTEND;TZID=Europe/Moscow:20220909T115000
DESCRIPTION:Lalayan M.V.\, Polozov S.M.\, Dmitriev M.S. M22-206
LOCATION:dep.14
SUMMARY:Academic (Research) Practice:
RRULE:FREQ=WEEKLY;UNTIL=20221216T115000;INTERVAL=2;WKST=MO
EXDATE:20221104T083000
END:VEVENT
BEGIN:VEVENT
DTSTAMP:20260420T230442Z
UID:e1785541-663c-4afe-92d5-25a79beb8bf5
DTSTART;TZID=Europe/Moscow:20220907T101500
DTEND;TZID=Europe/Moscow:20220907T115000
DESCRIPTION:Dmitriev M.S. S20-201
LOCATION:B-315
SUMMARY:
RRULE:FREQ=WEEKLY;UNTIL=20221221T115000;WKST=MO
END:VEVENT
BEGIN:VEVENT
DTSTAMP:20260420T230442Z
UID:171d929a-45b0-4e99-8a9c-90335f000b9a
DTSTART;TZID=Europe/Moscow:20220905T124500
DTEND;TZID=Europe/Moscow:20220905T142000
DESCRIPTION:Dmitriev M.S. M21-216
LOCATION:B-316
SUMMARY:High-power Pulsed Equipment
RRULE:FREQ=WEEKLY;UNTIL=20221219T142000;WKST=MO
END:VEVENT
BEGIN:VEVENT
DTSTAMP:20260420T230442Z
UID:1c2e7cea-cddc-4565-af68-4538e61b67c7
DTSTART;TZID=Europe/Moscow:20220907T143000
DTEND;TZID=Europe/Moscow:20220907T160500
DESCRIPTION:Dmitriev M.S.\, Samoshin A.V.\, Gusarova M.A.\, Polozov S.M
 . M21-216
LOCATION:dep.14
SUMMARY:Practical Training (Research Work)
RRULE:FREQ=WEEKLY;UNTIL=20221221T160500;WKST=MO
END:VEVENT
BEGIN:VEVENT
DTSTAMP:20260420T230442Z
UID:653a5f4d-f8ad-4a64-9608-1338499bf34a
DTSTART;TZID=Europe/Moscow:20220901T143000
DTEND;TZID=Europe/Moscow:20220901T160500
DESCRIPTION:Dmitriev M.S. M21-216
LOCATION:B-316
SUMMARY:Electromagnetic Compatibility (Emc)
RRULE:FREQ=WEEKLY;UNTIL=20221208T160500;INTERVAL=2;WKST=MO
END:VEVENT
BEGIN:VEVENT
DTSTAMP:20260420T230442Z
UID:063fefb7-49ad-4fdb-b047-55d0a76786c2
DTSTART;TZID=Europe/Moscow:20220912T143000
DTEND;TZID=Europe/Moscow:20220912T160500
DESCRIPTION:Dmitriev M.S. S20-201
LOCATION:B-315
SUMMARY:
RRULE:FREQ=WEEKLY;UNTIL=20221219T160500;INTERVAL=2;WKST=MO
END:VEVENT
BEGIN:VEVENT
DTSTAMP:20260420T230442Z
UID:5a6ab4c2-9d40-4183-9d29-a6dc780e30bb
DTSTART;TZID=Europe/Moscow:20220908T143000
DTEND;TZID=Europe/Moscow:20220908T160500
DESCRIPTION:Dmitriev M.S. M21-216
LOCATION:B-316
SUMMARY:Electromagnetic Compatibility (Emc)
RRULE:FREQ=WEEKLY;UNTIL=20221215T160500;INTERVAL=2;WKST=MO
END:VEVENT
BEGIN:VEVENT
DTSTAMP:20260420T230442Z
UID:bbb7d4e0-1fcc-46c5-8f5e-3d2691f29959
DTSTART;TZID=Europe/Moscow:20220901T161500
DTEND;TZID=Europe/Moscow:20220901T175000
DESCRIPTION:Dmitriev M.S. M21-216
LOCATION:B-316
SUMMARY:Electromagnetic Compatibility (Emc)
RRULE:FREQ=WEEKLY;UNTIL=20221215T175000;WKST=MO
END:VEVENT
BEGIN:VEVENT
DTSTAMP:20260420T230442Z
UID:7b3f0470-1ef0-42d4-b328-e20d35c5d5bc
DTSTART;TZID=Europe/Moscow:20220913T202500
DTEND;TZID=Europe/Moscow:20220913T220000
DESCRIPTION:Karimov A.R.\, Dmitriev M.S.\, Prokopenko A.V. B19-V03
LOCATION:dep.14
SUMMARY:Academic (Research) Practice:
RRULE:FREQ=WEEKLY;UNTIL=20221220T220000;INTERVAL=2;WKST=MO
END:VEVENT
BEGIN:VEVENT
DTSTAMP:20260420T230442Z
UID:beb33322-8a76-4c10-8469-df031f32177c
DTSTART;TZID=Europe/Moscow:20221104T202500
DTEND;TZID=Europe/Moscow:20221104T220000
DESCRIPTION:Prokopenko A.V.\, Dmitriev M.S. B19-V03
LOCATION:B-314a
SUMMARY:Ultra High-Frequency Electronics
RRULE:FREQ=WEEKLY;UNTIL=20221202T220000;WKST=MO
EXDATE:20221104T202500
END:VEVENT
END:VCALENDAR
