BEGIN:VCALENDAR
VERSION:2.0
PRODID:icalendar-ruby
CALSCALE:GREGORIAN
METHOD:PUBLISH
BEGIN:VTIMEZONE
TZID:Europe/Moscow
BEGIN:STANDARD
DTSTART:19700101T000000
TZOFFSETFROM:+0300
TZOFFSETTO:+0300
TZNAME:MSK
END:STANDARD
END:VTIMEZONE
BEGIN:VEVENT
DTSTAMP:20260419T221415Z
UID:058a0c45-9649-410c-bd7d-f1753b01c715
DTSTART;TZID=Europe/Moscow:20220905T083000
DTEND;TZID=Europe/Moscow:20220905T133000
DESCRIPTION:Shnyrev S.L.\, Cheryomhin P.A.\, Starikov R.S.\, Petrovskiy
  V.N.\, Kireev S.V.\, Kazieva T.V.\, Zlokazov E.Y.\, Evtihiev N.N.\, 
 Gonchukov S.A.\, Chirikov S.N. B19-203
LOCATION:dep.37
SUMMARY:
RRULE:FREQ=WEEKLY;UNTIL=20221219T133000;WKST=MO
END:VEVENT
BEGIN:VEVENT
DTSTAMP:20260419T221415Z
UID:de2a9d1c-5dea-4b62-84bc-29e097419e2c
DTSTART;TZID=Europe/Moscow:20220903T101500
DTEND;TZID=Europe/Moscow:20220903T133000
DESCRIPTION:Cheryomhin P.A.\, Petrovskiy V.N.\, Kazieva T.V.\, Starikov
  R.S. B19-204
LOCATION:dep.37
SUMMARY:
RRULE:FREQ=WEEKLY;UNTIL=20221126T133000;WKST=MO
END:VEVENT
BEGIN:VEVENT
DTSTAMP:20260419T221415Z
UID:49a13d4d-892b-4bcc-93fb-7caad9702ef7
DTSTART;TZID=Europe/Moscow:20220901T101500
DTEND;TZID=Europe/Moscow:20220901T133000
DESCRIPTION:Chirikov S.N.\, Petrovskiy V.N.\, Evtihiev N.N. M22-203
LOCATION:dep.37
SUMMARY:Academic practice (industry\, technology)
RRULE:FREQ=WEEKLY;UNTIL=20221208T133000;WKST=MO
END:VEVENT
BEGIN:VEVENT
DTSTAMP:20260419T221415Z
UID:08178326-be2c-45b2-a6d9-cfe6f4ceba0c
DTSTART;TZID=Europe/Moscow:20220905T133500
DTEND;TZID=Europe/Moscow:20220905T151500
DESCRIPTION:Evtihiev N.N.\, Petrovskiy V.N. M21-203
LOCATION:NTO IRE Polyus
SUMMARY:Practical Training (Research Work)
RRULE:FREQ=WEEKLY;UNTIL=20221219T151500;WKST=MO
END:VEVENT
BEGIN:VEVENT
DTSTAMP:20260419T221415Z
UID:674f2f90-14ae-41d6-aeb7-88efc2407888
DTSTART;TZID=Europe/Moscow:20220906T143000
DTEND;TZID=Europe/Moscow:20220906T175000
DESCRIPTION:Protasov E.A.\, Petrovskiy V.N.\, Kireev S.V.\, Gubskiy K.L
 . M22-203
LOCATION:K-1119
SUMMARY:Workshop: Laser physics (part 1)
RRULE:FREQ=WEEKLY;UNTIL=20221220T175000;WKST=MO
END:VEVENT
BEGIN:VEVENT
DTSTAMP:20260419T221415Z
UID:7726ea7f-49c2-4547-bd64-b6dec0258c0e
DTSTART;TZID=Europe/Moscow:20220905T143000
DTEND;TZID=Europe/Moscow:20220905T170000
DESCRIPTION:Shnyrev S.L.\, Cheryomhin P.A.\, Starikov R.S.\, Petrovskiy
  V.N.\, Kireev S.V.\, Kazieva T.V.\, Zlokazov E.Y.\, Evtihiev N.N.\, 
 Gonchukov S.A.\, Chirikov S.N. B19-203
LOCATION:dep.37
SUMMARY:
RRULE:FREQ=WEEKLY;UNTIL=20221212T170000;WKST=MO
END:VEVENT
BEGIN:VEVENT
DTSTAMP:20260419T221415Z
UID:40829118-8d09-441e-9c17-9d507ce22713
DTSTART;TZID=Europe/Moscow:20220902T175500
DTEND;TZID=Europe/Moscow:20220902T211000
DESCRIPTION:Cheryomhin P.A.\, Petrovskiy V.N.\, Gubskiy K.L. M22-207
LOCATION:K-1117
SUMMARY:
RRULE:FREQ=WEEKLY;UNTIL=20221216T211000;WKST=MO
EXDATE:20221104T175500
END:VEVENT
END:VCALENDAR
