BEGIN:VCALENDAR
VERSION:2.0
PRODID:icalendar-ruby
CALSCALE:GREGORIAN
METHOD:PUBLISH
BEGIN:VTIMEZONE
TZID:Europe/Moscow
BEGIN:STANDARD
DTSTART:19700101T000000
TZOFFSETFROM:+0300
TZOFFSETTO:+0300
TZNAME:MSK
END:STANDARD
END:VTIMEZONE
BEGIN:VEVENT
DTSTAMP:20260419T221108Z
UID:7dbba115-d505-4f83-a41f-ff769fc786fe
DTSTART;TZID=Europe/Moscow:20220907T202500
DTEND;TZID=Europe/Moscow:20220907T220000
DESCRIPTION:Davydov A.A. M22-201
LOCATION:V-109
SUMMARY:Parallel computing and software models for multiprocessor computing
  systems
RRULE:FREQ=WEEKLY;UNTIL=20221214T220000;INTERVAL=2;WKST=MO
END:VEVENT
BEGIN:VEVENT
DTSTAMP:20260419T221108Z
UID:3efba422-0113-410f-8b48-d5945154b5dc
DTSTART;TZID=Europe/Moscow:20220914T202500
DTEND;TZID=Europe/Moscow:20220914T220000
DESCRIPTION:Davydov A.A. M22-201
LOCATION:V-109
SUMMARY:Parallel computing and software models for multiprocessor computing
  systems
RRULE:FREQ=WEEKLY;UNTIL=20221221T220000;INTERVAL=2;WKST=MO
END:VEVENT
END:VCALENDAR
