BEGIN:VCALENDAR
VERSION:2.0
PRODID:icalendar-ruby
CALSCALE:GREGORIAN
METHOD:PUBLISH
BEGIN:VTIMEZONE
TZID:Europe/Moscow
BEGIN:STANDARD
DTSTART:19700101T000000
TZOFFSETFROM:+0300
TZOFFSETTO:+0300
TZNAME:MSK
END:STANDARD
END:VTIMEZONE
BEGIN:VEVENT
DTSTAMP:20260420T043335Z
UID:829feaea-4845-489e-b77a-3c78508c21cb
DTSTART;TZID=Europe/Moscow:20220902T083000
DTEND;TZID=Europe/Moscow:20220902T100500
DESCRIPTION:Skorohvatov M.D.\, Dubinin F.A.\, Belotskiy K.M. B20-102
LOCATION:dep.40
SUMMARY:Industry Practice  (scientific research\, elementary particle physi
 cs and cosmology)
RRULE:FREQ=WEEKLY;UNTIL=20221209T100500;INTERVAL=2;WKST=MO
END:VEVENT
BEGIN:VEVENT
DTSTAMP:20260420T043335Z
UID:e1affc20-11dd-4de1-a9b5-ca576218ac3e
DTSTART;TZID=Europe/Moscow:20220901T143000
DTEND;TZID=Europe/Moscow:20220901T160500
DESCRIPTION:Soldatov E.Y.\, Smirnov S.Y.\, Skorohvatov M.D.\, Belotskiy
  K.M. M22-115
LOCATION:dep.40
SUMMARY:Academic Practice (Introductoion)
RRULE:FREQ=WEEKLY;UNTIL=20221215T160500;WKST=MO
END:VEVENT
END:VCALENDAR
