BEGIN:VCALENDAR
VERSION:2.0
PRODID:icalendar-ruby
CALSCALE:GREGORIAN
METHOD:PUBLISH
BEGIN:VTIMEZONE
TZID:Europe/Moscow
BEGIN:STANDARD
DTSTART:19700101T000000
TZOFFSETFROM:+0300
TZOFFSETTO:+0300
TZNAME:MSK
END:STANDARD
END:VTIMEZONE
BEGIN:VEVENT
DTSTAMP:20260419T221115Z
UID:62552391-48bf-4bbb-bcbd-9b0217146aba
DTSTART;TZID=Europe/Moscow:20220906T083000
DTEND;TZID=Europe/Moscow:20220906T100500
DESCRIPTION:Novikov V.A.\, Nefediev A.V. B19-201
LOCATION:FIAN
SUMMARY:Quantum Field Theory
RRULE:FREQ=WEEKLY;UNTIL=20221220T100500;WKST=MO
END:VEVENT
BEGIN:VEVENT
DTSTAMP:20260419T221115Z
UID:90253214-4849-4b88-a4d4-f09ce8e21fe3
DTSTART;TZID=Europe/Moscow:20220906T101500
DTEND;TZID=Europe/Moscow:20220906T133000
DESCRIPTION:Novikov V.A.\, Nefediev A.V. B19-201
LOCATION:FIAN
SUMMARY:Quantum Field Theory
RRULE:FREQ=WEEKLY;UNTIL=20221220T133000;WKST=MO
END:VEVENT
BEGIN:VEVENT
DTSTAMP:20260419T221115Z
UID:3a860dbd-b4bf-4a0e-8d1f-40c5629ea676
DTSTART;TZID=Europe/Moscow:20220906T101500
DTEND;TZID=Europe/Moscow:20220906T115000
DESCRIPTION:Novikov V.A.\, Nefediev A.V. B19-104
LOCATION:FIAN
SUMMARY:Introduction to Quantum Field Theory
RRULE:FREQ=WEEKLY;UNTIL=20221213T115000;INTERVAL=2;WKST=MO
END:VEVENT
BEGIN:VEVENT
DTSTAMP:20260419T221115Z
UID:169ba657-3c2b-4f8c-a7bd-79a01e4257c5
DTSTART;TZID=Europe/Moscow:20220913T101500
DTEND;TZID=Europe/Moscow:20220913T115000
DESCRIPTION:Novikov V.A.\, Nefediev A.V. B19-104
LOCATION:FIAN
SUMMARY:Introduction to Quantum Field Theory
RRULE:FREQ=WEEKLY;UNTIL=20221220T115000;INTERVAL=2;WKST=MO
END:VEVENT
BEGIN:VEVENT
DTSTAMP:20260419T221115Z
UID:37cdbddb-b0d9-4098-8c44-1b77a512d660
DTSTART;TZID=Europe/Moscow:20220906T124500
DTEND;TZID=Europe/Moscow:20220906T142000
DESCRIPTION:Novikov V.A.\, Nefediev A.V. B19-104
LOCATION:FIAN
SUMMARY:Quantum Field Theory (Part I)
RRULE:FREQ=WEEKLY;UNTIL=20221213T142000;INTERVAL=2;WKST=MO
END:VEVENT
BEGIN:VEVENT
DTSTAMP:20260419T221115Z
UID:e380b437-e5b2-4453-8835-03098cf0c86a
DTSTART;TZID=Europe/Moscow:20220913T124500
DTEND;TZID=Europe/Moscow:20220913T142000
DESCRIPTION:Novikov V.A.\, Nefediev A.V. B19-104
LOCATION:FIAN
SUMMARY:Quantum Field Theory (Part I)
RRULE:FREQ=WEEKLY;UNTIL=20221220T142000;INTERVAL=2;WKST=MO
END:VEVENT
BEGIN:VEVENT
DTSTAMP:20260419T221115Z
UID:40a533e6-a735-4b42-ab12-241c4f49b92e
DTSTART;TZID=Europe/Moscow:20220907T143000
DTEND;TZID=Europe/Moscow:20220907T160500
DESCRIPTION:Novikov V.A.\, Vysotskiy M.I. B20-104\, B20-105
LOCATION:FIAN
SUMMARY:Experimental methods in particle physics
RRULE:FREQ=WEEKLY;UNTIL=20221214T160500;INTERVAL=2;WKST=MO
END:VEVENT
BEGIN:VEVENT
DTSTAMP:20260419T221115Z
UID:d808d387-57dd-4fd7-81e2-a8de063086a3
DTSTART;TZID=Europe/Moscow:20220905T161500
DTEND;TZID=Europe/Moscow:20220905T175000
DESCRIPTION:Vysotskiy M.I.\, Novikov V.A. B19-104
LOCATION:FIAN
SUMMARY:Nuclear Physics
RRULE:FREQ=WEEKLY;UNTIL=20221212T175000;INTERVAL=2;WKST=MO
END:VEVENT
BEGIN:VEVENT
DTSTAMP:20260419T221115Z
UID:d4e1ce9c-d58d-446e-b27d-9ee4b90c86a6
DTSTART;TZID=Europe/Moscow:20220912T161500
DTEND;TZID=Europe/Moscow:20220912T175000
DESCRIPTION:Novikov V.A.\, Vysotskiy M.I. B19-104
LOCATION:FIAN
SUMMARY:Nuclear Physics
RRULE:FREQ=WEEKLY;UNTIL=20221219T175000;INTERVAL=2;WKST=MO
END:VEVENT
END:VCALENDAR
