BEGIN:VCALENDAR
VERSION:2.0
PRODID:icalendar-ruby
CALSCALE:GREGORIAN
METHOD:PUBLISH
BEGIN:VTIMEZONE
TZID:Europe/Moscow
BEGIN:STANDARD
DTSTART:19700101T000000
TZOFFSETFROM:+0300
TZOFFSETTO:+0300
TZNAME:MSK
END:STANDARD
END:VTIMEZONE
BEGIN:VEVENT
DTSTAMP:20260419T221203Z
UID:4601310d-222a-4d7f-bcd0-11760769cf6e
DTSTART;TZID=Europe/Moscow:20220902T101500
DTEND;TZID=Europe/Moscow:20220902T115000
DESCRIPTION:Kornouhov V.N. M22-100\, M22-101\, M22-102\, M22-106\, M22-108
 \, M22-112\, M22-113\, M22-115\, M22-117\, M22-165
SUMMARY:
RRULE:FREQ=WEEKLY;UNTIL=20221216T115000;WKST=MO
EXDATE:20221104T101500
END:VEVENT
BEGIN:VEVENT
DTSTAMP:20260419T221203Z
UID:dafe1006-0a93-469a-8c33-e83949eeafe2
DTSTART;TZID=Europe/Moscow:20220901T133500
DTEND;TZID=Europe/Moscow:20220901T142000
DESCRIPTION:Kornouhov V.N. M21-106
LOCATION:E-313
SUMMARY:Methodology of research and experimentation (physical workshop) (pa
 rt 2)
RRULE:FREQ=WEEKLY;UNTIL=20221215T142000;WKST=MO
END:VEVENT
BEGIN:VEVENT
DTSTAMP:20260419T221203Z
UID:82820d41-1888-42a3-9c56-ddfeb3875a9f
DTSTART;TZID=Europe/Moscow:20220902T161500
DTEND;TZID=Europe/Moscow:20220902T175000
DESCRIPTION:Demin V.M.\, Staltsov M.S.\, Kornouhov V.N. M21-106\, M21-10
 8\, M21-113
LOCATION:NLK-454
SUMMARY:Scientific Seminar
RRULE:FREQ=WEEKLY;UNTIL=20221021T175000;WKST=MO
END:VEVENT
END:VCALENDAR
